BEGIN:VCALENDAR
VERSION:2.0
PRODID:-//California Fire Safe Council - ECPv6.15.17.1//NONSGML v1.0//EN
CALSCALE:GREGORIAN
METHOD:PUBLISH
X-ORIGINAL-URL:https://cafiresafecouncil.org
X-WR-CALDESC:Events for California Fire Safe Council
REFRESH-INTERVAL;VALUE=DURATION:PT1H
X-Robots-Tag:noindex
X-PUBLISHED-TTL:PT1H
BEGIN:VTIMEZONE
TZID:America/Los_Angeles
BEGIN:DAYLIGHT
TZOFFSETFROM:-0800
TZOFFSETTO:-0700
TZNAME:PDT
DTSTART:20240310T100000
END:DAYLIGHT
BEGIN:STANDARD
TZOFFSETFROM:-0700
TZOFFSETTO:-0800
TZNAME:PST
DTSTART:20241103T090000
END:STANDARD
BEGIN:DAYLIGHT
TZOFFSETFROM:-0800
TZOFFSETTO:-0700
TZNAME:PDT
DTSTART:20250309T100000
END:DAYLIGHT
BEGIN:STANDARD
TZOFFSETFROM:-0700
TZOFFSETTO:-0800
TZNAME:PST
DTSTART:20251102T090000
END:STANDARD
BEGIN:DAYLIGHT
TZOFFSETFROM:-0800
TZOFFSETTO:-0700
TZNAME:PDT
DTSTART:20260308T100000
END:DAYLIGHT
BEGIN:STANDARD
TZOFFSETFROM:-0700
TZOFFSETTO:-0800
TZNAME:PST
DTSTART:20261101T090000
END:STANDARD
END:VTIMEZONE
BEGIN:VEVENT
DTSTART;TZID=America/Los_Angeles:20250903T120000
DTEND;TZID=America/Los_Angeles:20250903T130000
DTSTAMP:20260422T050936
CREATED:20250807T212350Z
LAST-MODIFIED:20260331T231316Z
UID:9707-1756900800-1756904400@cafiresafecouncil.org
SUMMARY:Southern CA Regional Office Hours
DESCRIPTION:The Southern California Regional Open Office Hour occurs on the first Wednesday of each month\, from 12:00 to 1:00 PM. \nMicrosoft Teams meeting \nJoin: https://teams.microsoft.com/meet/2940108483311?p=3SOdjNpjnHTImBF24y \nMeeting ID: 294 010 848 331 1 \nPasscode: 2vw99dG2
URL:https://cafiresafecouncil.org/event/southern-ca-regional-office-hours/2025-09-03/
CATEGORIES:CFSC Events
END:VEVENT
BEGIN:VEVENT
DTSTART;TZID=America/Los_Angeles:20250904T120000
DTEND;TZID=America/Los_Angeles:20250904T130000
DTSTAMP:20260422T050936
CREATED:20250807T212639Z
LAST-MODIFIED:20260331T231424Z
UID:9757-1756987200-1756990800@cafiresafecouncil.org
SUMMARY:Northern/Central CA Regional Office Hours
DESCRIPTION:The Northern/Central California Regional Open Office Hour occurs on the first Thursday of the month\, from 12:00 to 1:00 PM. \nMicrosoft Teams meeting \nJoin: https://teams.microsoft.com/meet/22977693935752?p=rjZKbQWES9utaxoLB8 \nMeeting ID: 229 776 939 357 52 \nPasscode: 48sm7qH6
URL:https://cafiresafecouncil.org/event/northern-central-ca-regional-office-hours/2025-09-04/
CATEGORIES:CFSC Events
END:VEVENT
BEGIN:VEVENT
DTSTART;VALUE=DATE:20250918
DTEND;VALUE=DATE:20250919
DTSTAMP:20260422T050936
CREATED:20221013T192049Z
LAST-MODIFIED:20221013T192049Z
UID:7504-1758153600-1758239999@cafiresafecouncil.org
SUMMARY:East Orange County Canyons FSC Monthly Meeting
DESCRIPTION:Fire Safe Council of East Orange County Canyons Monthly Meeting \n  \n\n\n\n\n\nWhen: \n3rd Thursday of each month at 7PM\n\n\nWhere: \nOnline or in-person\n\n\nIn-person attendance:\nFire Safe Council of East Orange County Canyons meets on even months at Fire Station 14 in Silverado and odd months\, Fire Station 16 in Modjeska.\n\n\nVirtual attendance:\n\n\n\n\n\nJoin Zoom Meeting\nhttps://us06web.zoom.us/j/84246117778?pwd=dXlrNjhaSVFzY1FXendVWURzRXR2dz09Meeting ID: 842 4611 7778\nPasscode: 956172\nOne tap mobile\n+17207072699\,\,84246117778#\,\,\,\,*956172# US (Denver)\n+12532158782\,\,84246117778#\,\,\,\,*956172# US (Tacoma)Dial by your location\n+1 720 707 2699 US (Denver)\n+1 253 215 8782 US (Tacoma)\n+1 346 248 7799 US (Houston)\n+1 646 558 8656 US (New York)\n+1 301 715 8592 US (Washington DC)\n+1 312 626 6799 US (Chicago)\nMeeting ID: 842 4611 7778\nPasscode: 956172\nFind your local number: https://us06web.zoom.us/u/k5mUZUUoZ\n\n\n\n\n\n\n\nLearn more here: https://www.fsceocc.org \n\n 
URL:https://cafiresafecouncil.org/event/east-orange-county-canyons-fsc-monthly-meeting/2025-09-18/
CATEGORIES:Local FSC Events
END:VEVENT
BEGIN:VEVENT
DTSTART;VALUE=DATE:20250918
DTEND;VALUE=DATE:20250919
DTSTAMP:20260422T050936
CREATED:20221122T180023Z
LAST-MODIFIED:20221122T180023Z
UID:7503-1758153600-1758239999@cafiresafecouncil.org
SUMMARY:Los Angeles County FSC Monthly Meeting
DESCRIPTION:The Los Angeles County Fire Safe Council meets virtually on the third Thursday of each month at 7:00 PM.  \nYou can access the Zoom meeting by clicking the following link: https://us06web.zoom.us/j/87388186735  \nLearn more about MySafe:LA and the Los Angeles County Fire Safe Council here: https://www.mysafela.org/wildfire/ \n  \n 
URL:https://cafiresafecouncil.org/event/los-angeles-county-fsc-monthly-meeting/2025-09-18/
CATEGORIES:Local FSC Events
END:VEVENT
END:VCALENDAR