BEGIN:VCALENDAR
VERSION:2.0
PRODID:-//California Fire Safe Council - ECPv6.15.17.1//NONSGML v1.0//EN
CALSCALE:GREGORIAN
METHOD:PUBLISH
X-WR-CALNAME:California Fire Safe Council
X-ORIGINAL-URL:https://cafiresafecouncil.org
X-WR-CALDESC:Events for California Fire Safe Council
REFRESH-INTERVAL;VALUE=DURATION:PT1H
X-Robots-Tag:noindex
X-PUBLISHED-TTL:PT1H
BEGIN:VTIMEZONE
TZID:America/Los_Angeles
BEGIN:DAYLIGHT
TZOFFSETFROM:-0800
TZOFFSETTO:-0700
TZNAME:PDT
DTSTART:20240310T100000
END:DAYLIGHT
BEGIN:STANDARD
TZOFFSETFROM:-0700
TZOFFSETTO:-0800
TZNAME:PST
DTSTART:20241103T090000
END:STANDARD
BEGIN:DAYLIGHT
TZOFFSETFROM:-0800
TZOFFSETTO:-0700
TZNAME:PDT
DTSTART:20250309T100000
END:DAYLIGHT
BEGIN:STANDARD
TZOFFSETFROM:-0700
TZOFFSETTO:-0800
TZNAME:PST
DTSTART:20251102T090000
END:STANDARD
BEGIN:DAYLIGHT
TZOFFSETFROM:-0800
TZOFFSETTO:-0700
TZNAME:PDT
DTSTART:20260308T100000
END:DAYLIGHT
BEGIN:STANDARD
TZOFFSETFROM:-0700
TZOFFSETTO:-0800
TZNAME:PST
DTSTART:20261101T090000
END:STANDARD
END:VTIMEZONE
BEGIN:VEVENT
DTSTART;TZID=America/Los_Angeles:20250805T140000
DTEND;TZID=America/Los_Angeles:20250805T150000
DTSTAMP:20260422T083058
CREATED:20250721T224713Z
LAST-MODIFIED:20250721T224713Z
UID:9656-1754402400-1754406000@cafiresafecouncil.org
SUMMARY:2025 State Fire Capacity Grant Program Office Hours
DESCRIPTION:The California Fire Safe Council is pleased to invite you to participate in the 2025 State Fire Capacity Office Hours. We will be available to answer your questions about the State Fire Capacity Grant Program\, provide guidance on any ZoomGrants issues\, or offer support in any way that can help you succeed in the program. The Notice of Funding Opportunity can be found here. \nOffice Hours:\nDate: Tuesdays and Thursdays (July 22nd – August 28th\, 2025))\nTime: 2PM – 3PM PT\nLocation: Microsoft Teams or you may also dial in by phone at 323-792-6282 (Conference ID: 218269346#)
URL:https://cafiresafecouncil.org/event/2025-state-fire-capacity-grant-program-office-hours/2025-08-05/
CATEGORIES:CFSC Events
ORGANIZER;CN="CFSC":MAILTO:lpopyack@cafiresafecouncil.org
END:VEVENT
BEGIN:VEVENT
DTSTART;TZID=America/Los_Angeles:20250806T120000
DTEND;TZID=America/Los_Angeles:20250806T130000
DTSTAMP:20260422T083058
CREATED:20250807T212350Z
LAST-MODIFIED:20260331T231316Z
UID:9705-1754481600-1754485200@cafiresafecouncil.org
SUMMARY:Southern CA Regional Office Hours
DESCRIPTION:The Southern California Regional Open Office Hour occurs on the first Wednesday of each month\, from 12:00 to 1:00 PM. \nMicrosoft Teams meeting \nJoin: https://teams.microsoft.com/meet/2940108483311?p=3SOdjNpjnHTImBF24y \nMeeting ID: 294 010 848 331 1 \nPasscode: 2vw99dG2
URL:https://cafiresafecouncil.org/event/southern-ca-regional-office-hours/2025-08-06/
CATEGORIES:CFSC Events
END:VEVENT
BEGIN:VEVENT
DTSTART;TZID=America/Los_Angeles:20250807T120000
DTEND;TZID=America/Los_Angeles:20250807T130000
DTSTAMP:20260422T083058
CREATED:20250807T212639Z
LAST-MODIFIED:20260331T231423Z
UID:9731-1754568000-1754571600@cafiresafecouncil.org
SUMMARY:Northern/Central CA Regional Office Hours
DESCRIPTION:The Northern/Central California Regional Open Office Hour occurs on the first Thursday of the month\, from 12:00 to 1:00 PM. \nMicrosoft Teams meeting \nJoin: https://teams.microsoft.com/meet/22977693935752?p=rjZKbQWES9utaxoLB8 \nMeeting ID: 229 776 939 357 52 \nPasscode: 48sm7qH6
URL:https://cafiresafecouncil.org/event/northern-central-ca-regional-office-hours/2025-08-07/
CATEGORIES:CFSC Events
END:VEVENT
BEGIN:VEVENT
DTSTART;TZID=America/Los_Angeles:20250807T140000
DTEND;TZID=America/Los_Angeles:20250807T150000
DTSTAMP:20260422T083058
CREATED:20250721T224713Z
LAST-MODIFIED:20250721T224713Z
UID:9657-1754575200-1754578800@cafiresafecouncil.org
SUMMARY:2025 State Fire Capacity Grant Program Office Hours
DESCRIPTION:The California Fire Safe Council is pleased to invite you to participate in the 2025 State Fire Capacity Office Hours. We will be available to answer your questions about the State Fire Capacity Grant Program\, provide guidance on any ZoomGrants issues\, or offer support in any way that can help you succeed in the program. The Notice of Funding Opportunity can be found here. \nOffice Hours:\nDate: Tuesdays and Thursdays (July 22nd – August 28th\, 2025))\nTime: 2PM – 3PM PT\nLocation: Microsoft Teams or you may also dial in by phone at 323-792-6282 (Conference ID: 218269346#)
URL:https://cafiresafecouncil.org/event/2025-state-fire-capacity-grant-program-office-hours/2025-08-07/
CATEGORIES:CFSC Events
ORGANIZER;CN="CFSC":MAILTO:lpopyack@cafiresafecouncil.org
END:VEVENT
BEGIN:VEVENT
DTSTART;TZID=America/Los_Angeles:20250812T140000
DTEND;TZID=America/Los_Angeles:20250812T150000
DTSTAMP:20260422T083058
CREATED:20250721T224713Z
LAST-MODIFIED:20250721T224713Z
UID:9658-1755007200-1755010800@cafiresafecouncil.org
SUMMARY:2025 State Fire Capacity Grant Program Office Hours
DESCRIPTION:The California Fire Safe Council is pleased to invite you to participate in the 2025 State Fire Capacity Office Hours. We will be available to answer your questions about the State Fire Capacity Grant Program\, provide guidance on any ZoomGrants issues\, or offer support in any way that can help you succeed in the program. The Notice of Funding Opportunity can be found here. \nOffice Hours:\nDate: Tuesdays and Thursdays (July 22nd – August 28th\, 2025))\nTime: 2PM – 3PM PT\nLocation: Microsoft Teams or you may also dial in by phone at 323-792-6282 (Conference ID: 218269346#)
URL:https://cafiresafecouncil.org/event/2025-state-fire-capacity-grant-program-office-hours/2025-08-12/
CATEGORIES:CFSC Events
ORGANIZER;CN="CFSC":MAILTO:lpopyack@cafiresafecouncil.org
END:VEVENT
BEGIN:VEVENT
DTSTART;TZID=America/Los_Angeles:20250814T140000
DTEND;TZID=America/Los_Angeles:20250814T150000
DTSTAMP:20260422T083058
CREATED:20250721T224713Z
LAST-MODIFIED:20250721T224713Z
UID:9659-1755180000-1755183600@cafiresafecouncil.org
SUMMARY:2025 State Fire Capacity Grant Program Office Hours
DESCRIPTION:The California Fire Safe Council is pleased to invite you to participate in the 2025 State Fire Capacity Office Hours. We will be available to answer your questions about the State Fire Capacity Grant Program\, provide guidance on any ZoomGrants issues\, or offer support in any way that can help you succeed in the program. The Notice of Funding Opportunity can be found here. \nOffice Hours:\nDate: Tuesdays and Thursdays (July 22nd – August 28th\, 2025))\nTime: 2PM – 3PM PT\nLocation: Microsoft Teams or you may also dial in by phone at 323-792-6282 (Conference ID: 218269346#)
URL:https://cafiresafecouncil.org/event/2025-state-fire-capacity-grant-program-office-hours/2025-08-14/
CATEGORIES:CFSC Events
ORGANIZER;CN="CFSC":MAILTO:lpopyack@cafiresafecouncil.org
END:VEVENT
BEGIN:VEVENT
DTSTART;TZID=America/Los_Angeles:20250819T140000
DTEND;TZID=America/Los_Angeles:20250819T150000
DTSTAMP:20260422T083058
CREATED:20250721T224713Z
LAST-MODIFIED:20250721T224713Z
UID:9660-1755612000-1755615600@cafiresafecouncil.org
SUMMARY:2025 State Fire Capacity Grant Program Office Hours
DESCRIPTION:The California Fire Safe Council is pleased to invite you to participate in the 2025 State Fire Capacity Office Hours. We will be available to answer your questions about the State Fire Capacity Grant Program\, provide guidance on any ZoomGrants issues\, or offer support in any way that can help you succeed in the program. The Notice of Funding Opportunity can be found here. \nOffice Hours:\nDate: Tuesdays and Thursdays (July 22nd – August 28th\, 2025))\nTime: 2PM – 3PM PT\nLocation: Microsoft Teams or you may also dial in by phone at 323-792-6282 (Conference ID: 218269346#)
URL:https://cafiresafecouncil.org/event/2025-state-fire-capacity-grant-program-office-hours/2025-08-19/
CATEGORIES:CFSC Events
ORGANIZER;CN="CFSC":MAILTO:lpopyack@cafiresafecouncil.org
END:VEVENT
BEGIN:VEVENT
DTSTART;VALUE=DATE:20250821
DTEND;VALUE=DATE:20250822
DTSTAMP:20260422T083058
CREATED:20221013T192049Z
LAST-MODIFIED:20221013T192049Z
UID:7198-1755734400-1755820799@cafiresafecouncil.org
SUMMARY:East Orange County Canyons FSC Monthly Meeting
DESCRIPTION:Fire Safe Council of East Orange County Canyons Monthly Meeting \n  \n\n\n\n\n\nWhen: \n3rd Thursday of each month at 7PM\n\n\nWhere: \nOnline or in-person\n\n\nIn-person attendance:\nFire Safe Council of East Orange County Canyons meets on even months at Fire Station 14 in Silverado and odd months\, Fire Station 16 in Modjeska.\n\n\nVirtual attendance:\n\n\n\n\n\nJoin Zoom Meeting\nhttps://us06web.zoom.us/j/84246117778?pwd=dXlrNjhaSVFzY1FXendVWURzRXR2dz09Meeting ID: 842 4611 7778\nPasscode: 956172\nOne tap mobile\n+17207072699\,\,84246117778#\,\,\,\,*956172# US (Denver)\n+12532158782\,\,84246117778#\,\,\,\,*956172# US (Tacoma)Dial by your location\n+1 720 707 2699 US (Denver)\n+1 253 215 8782 US (Tacoma)\n+1 346 248 7799 US (Houston)\n+1 646 558 8656 US (New York)\n+1 301 715 8592 US (Washington DC)\n+1 312 626 6799 US (Chicago)\nMeeting ID: 842 4611 7778\nPasscode: 956172\nFind your local number: https://us06web.zoom.us/u/k5mUZUUoZ\n\n\n\n\n\n\n\nLearn more here: https://www.fsceocc.org \n\n 
URL:https://cafiresafecouncil.org/event/east-orange-county-canyons-fsc-monthly-meeting/2025-08-21/
CATEGORIES:Local FSC Events
END:VEVENT
BEGIN:VEVENT
DTSTART;VALUE=DATE:20250821
DTEND;VALUE=DATE:20250822
DTSTAMP:20260422T083058
CREATED:20221122T180023Z
LAST-MODIFIED:20221122T180023Z
UID:7197-1755734400-1755820799@cafiresafecouncil.org
SUMMARY:Los Angeles County FSC Monthly Meeting
DESCRIPTION:The Los Angeles County Fire Safe Council meets virtually on the third Thursday of each month at 7:00 PM.  \nYou can access the Zoom meeting by clicking the following link: https://us06web.zoom.us/j/87388186735  \nLearn more about MySafe:LA and the Los Angeles County Fire Safe Council here: https://www.mysafela.org/wildfire/ \n  \n 
URL:https://cafiresafecouncil.org/event/los-angeles-county-fsc-monthly-meeting/2025-08-21/
CATEGORIES:Local FSC Events
END:VEVENT
BEGIN:VEVENT
DTSTART;TZID=America/Los_Angeles:20250821T140000
DTEND;TZID=America/Los_Angeles:20250821T150000
DTSTAMP:20260422T083058
CREATED:20250721T224713Z
LAST-MODIFIED:20250721T224713Z
UID:9661-1755784800-1755788400@cafiresafecouncil.org
SUMMARY:2025 State Fire Capacity Grant Program Office Hours
DESCRIPTION:The California Fire Safe Council is pleased to invite you to participate in the 2025 State Fire Capacity Office Hours. We will be available to answer your questions about the State Fire Capacity Grant Program\, provide guidance on any ZoomGrants issues\, or offer support in any way that can help you succeed in the program. The Notice of Funding Opportunity can be found here. \nOffice Hours:\nDate: Tuesdays and Thursdays (July 22nd – August 28th\, 2025))\nTime: 2PM – 3PM PT\nLocation: Microsoft Teams or you may also dial in by phone at 323-792-6282 (Conference ID: 218269346#)
URL:https://cafiresafecouncil.org/event/2025-state-fire-capacity-grant-program-office-hours/2025-08-21/
CATEGORIES:CFSC Events
ORGANIZER;CN="CFSC":MAILTO:lpopyack@cafiresafecouncil.org
END:VEVENT
BEGIN:VEVENT
DTSTART;TZID=America/Los_Angeles:20250826T140000
DTEND;TZID=America/Los_Angeles:20250826T150000
DTSTAMP:20260422T083058
CREATED:20250721T224713Z
LAST-MODIFIED:20250721T224713Z
UID:9662-1756216800-1756220400@cafiresafecouncil.org
SUMMARY:2025 State Fire Capacity Grant Program Office Hours
DESCRIPTION:The California Fire Safe Council is pleased to invite you to participate in the 2025 State Fire Capacity Office Hours. We will be available to answer your questions about the State Fire Capacity Grant Program\, provide guidance on any ZoomGrants issues\, or offer support in any way that can help you succeed in the program. The Notice of Funding Opportunity can be found here. \nOffice Hours:\nDate: Tuesdays and Thursdays (July 22nd – August 28th\, 2025))\nTime: 2PM – 3PM PT\nLocation: Microsoft Teams or you may also dial in by phone at 323-792-6282 (Conference ID: 218269346#)
URL:https://cafiresafecouncil.org/event/2025-state-fire-capacity-grant-program-office-hours/2025-08-26/
CATEGORIES:CFSC Events
ORGANIZER;CN="CFSC":MAILTO:lpopyack@cafiresafecouncil.org
END:VEVENT
BEGIN:VEVENT
DTSTART;TZID=America/Los_Angeles:20250828T140000
DTEND;TZID=America/Los_Angeles:20250828T150000
DTSTAMP:20260422T083058
CREATED:20250721T224713Z
LAST-MODIFIED:20250721T224713Z
UID:9663-1756389600-1756393200@cafiresafecouncil.org
SUMMARY:2025 State Fire Capacity Grant Program Office Hours
DESCRIPTION:The California Fire Safe Council is pleased to invite you to participate in the 2025 State Fire Capacity Office Hours. We will be available to answer your questions about the State Fire Capacity Grant Program\, provide guidance on any ZoomGrants issues\, or offer support in any way that can help you succeed in the program. The Notice of Funding Opportunity can be found here. \nOffice Hours:\nDate: Tuesdays and Thursdays (July 22nd – August 28th\, 2025))\nTime: 2PM – 3PM PT\nLocation: Microsoft Teams or you may also dial in by phone at 323-792-6282 (Conference ID: 218269346#)
URL:https://cafiresafecouncil.org/event/2025-state-fire-capacity-grant-program-office-hours/2025-08-28/
CATEGORIES:CFSC Events
ORGANIZER;CN="CFSC":MAILTO:lpopyack@cafiresafecouncil.org
END:VEVENT
END:VCALENDAR