BEGIN:VCALENDAR
VERSION:2.0
PRODID:-//California Fire Safe Council - ECPv6.15.17.1//NONSGML v1.0//EN
CALSCALE:GREGORIAN
METHOD:PUBLISH
X-WR-CALNAME:California Fire Safe Council
X-ORIGINAL-URL:https://cafiresafecouncil.org
X-WR-CALDESC:Events for California Fire Safe Council
REFRESH-INTERVAL;VALUE=DURATION:PT1H
X-Robots-Tag:noindex
X-PUBLISHED-TTL:PT1H
BEGIN:VTIMEZONE
TZID:America/Los_Angeles
BEGIN:DAYLIGHT
TZOFFSETFROM:-0800
TZOFFSETTO:-0700
TZNAME:PDT
DTSTART:20220313T100000
END:DAYLIGHT
BEGIN:STANDARD
TZOFFSETFROM:-0700
TZOFFSETTO:-0800
TZNAME:PST
DTSTART:20221106T090000
END:STANDARD
BEGIN:DAYLIGHT
TZOFFSETFROM:-0800
TZOFFSETTO:-0700
TZNAME:PDT
DTSTART:20230312T100000
END:DAYLIGHT
BEGIN:STANDARD
TZOFFSETFROM:-0700
TZOFFSETTO:-0800
TZNAME:PST
DTSTART:20231105T090000
END:STANDARD
BEGIN:DAYLIGHT
TZOFFSETFROM:-0800
TZOFFSETTO:-0700
TZNAME:PDT
DTSTART:20240310T100000
END:DAYLIGHT
BEGIN:STANDARD
TZOFFSETFROM:-0700
TZOFFSETTO:-0800
TZNAME:PST
DTSTART:20241103T090000
END:STANDARD
END:VTIMEZONE
BEGIN:VEVENT
DTSTART;VALUE=DATE:20231101
DTEND;VALUE=DATE:20231102
DTSTAMP:20260422T052144
CREATED:20230925T173108Z
LAST-MODIFIED:20230925T173119Z
UID:7513-1698796800-1698883199@cafiresafecouncil.org
SUMMARY:CalVTP Field Training: Sierra Foothills\, Vista Del Rio Project 
DESCRIPTION:Wednesday\, November 1st\, 2023\, 1:00pm – 5:00pm \nLearn more & register here: https://spranch.calpoly.edu/calvtp-field-training-sierra-foothills-vista-del-rio-project \nThis is an opportunity to learn about a fuel reduction project at Vista Del Rio in Oakhurst\, California. Participants will increase their understanding of how CALFIRE used the CalVTP at Vista Del Rio to facilitate vegetation management and fuels reduction. \nParticipants will complete a field treatment tour of the project area\, learning about the different treatment methods used and why they were chosen. Sebastien Cordier\, Madera-Mariposa-Merced Unit Environmental Scientist at CAL FIRE\, and Brian Mattos\, Madera-Mariposa-Merced Unit Forester at CAL FIRE\, will discuss the need for this project\, how the treatment zones were selected\, and the successes as well as the shortcomings that happened while implementing this project.
URL:https://cafiresafecouncil.org/event/calvtp-field-training-sierra-foothills-vista-del-rio-project/
CATEGORIES:Partner Events
END:VEVENT
BEGIN:VEVENT
DTSTART;TZID=America/Los_Angeles:20231101T140000
DTEND;TZID=America/Los_Angeles:20231101T150000
DTSTAMP:20260422T052144
CREATED:20220720T181851Z
LAST-MODIFIED:20231116T213041Z
UID:7254-1698847200-1698850800@cafiresafecouncil.org
SUMMARY:CFSC Central CA Regional Monthly Meeting
DESCRIPTION:UPDATE: Thank you for attending CFSC’s Central California Regional Monthly Meeting on November 1\, 2023. You can view the Zoom video recording from this meeting here. \n\nPlease come join California Fire Safe Council Regional Coordinators during their monthly regional Check-ins and Networking Calls. Central California meets on the first Wednesday of each month at 2:00 PM. \nPlease register in advance for this meeting: https://us02web.zoom.us/meeting/register/tZYkduyvqzIvGNDG-tRaH5rRRRdh7g-ANpma \nAfter registering\, you will receive a confirmation email containing information about joining the meeting. \nFor questions\, please contact Brooke McAllister\, our Central California Regional Coordinator: bmcallister@cafiresafecouncil.org
URL:https://cafiresafecouncil.org/event/cfsc-central-ca-regional-monthly-meeting-2-2023-11-01/
CATEGORIES:CFSC Events,Regional Meetings
END:VEVENT
BEGIN:VEVENT
DTSTART;TZID=America/Los_Angeles:20231108T120000
DTEND;TZID=America/Los_Angeles:20231108T130000
DTSTAMP:20260422T052144
CREATED:20220720T182131Z
LAST-MODIFIED:20231204T180716Z
UID:7303-1699444800-1699448400@cafiresafecouncil.org
SUMMARY:CFSC Southern CA Regional Monthly Meeting
DESCRIPTION:UPDATE: Thank you for attending CFSC’s Southern California Regional Monthly Meeting on November 8\, 2023. You can click here to view the Zoom video recording from this meeting. \n\nPlease come join California Fire Safe Council Regional Coordinators during their monthly regional Check-ins and Networking Calls. Southern California meets on the second Wednesday of each month at 12:00 PM. \nPlease register in advance for this meeting: https://us02web.zoom.us/meeting/register/tZcude2rrzwrGtLwWPdfEpXlIjCctNj99Tfb \nAfter registering\, you will receive a confirmation email containing information about joining the meeting. \nFor questions\, please contact Britney Munoz\, our Southern California Regional Coordinator: bmunoz@cafiresafecouncil.org
URL:https://cafiresafecouncil.org/event/cfsc-southern-ca-regional-monthly-meeting-2-2023-11-08/
CATEGORIES:CFSC Events,Regional Meetings
END:VEVENT
BEGIN:VEVENT
DTSTART;VALUE=DATE:20231111
DTEND;VALUE=DATE:20231119
DTSTAMP:20260422T052144
CREATED:20230831T170429Z
LAST-MODIFIED:20230831T170429Z
UID:7388-1699660800-1700351999@cafiresafecouncil.org
SUMMARY:2023 Santa Barbara TREX
DESCRIPTION:
URL:https://cafiresafecouncil.org/event/2023-santa-barbara-trex/
CATEGORIES:Partner Events
END:VEVENT
END:VCALENDAR