BEGIN:VCALENDAR
VERSION:2.0
PRODID:-//California Fire Safe Council - ECPv6.15.17.1//NONSGML v1.0//EN
CALSCALE:GREGORIAN
METHOD:PUBLISH
X-WR-CALNAME:California Fire Safe Council
X-ORIGINAL-URL:https://cafiresafecouncil.org
X-WR-CALDESC:Events for California Fire Safe Council
REFRESH-INTERVAL;VALUE=DURATION:PT1H
X-Robots-Tag:noindex
X-PUBLISHED-TTL:PT1H
BEGIN:VTIMEZONE
TZID:America/Los_Angeles
BEGIN:DAYLIGHT
TZOFFSETFROM:-0800
TZOFFSETTO:-0700
TZNAME:PDT
DTSTART:20220313T100000
END:DAYLIGHT
BEGIN:STANDARD
TZOFFSETFROM:-0700
TZOFFSETTO:-0800
TZNAME:PST
DTSTART:20221106T090000
END:STANDARD
BEGIN:DAYLIGHT
TZOFFSETFROM:-0800
TZOFFSETTO:-0700
TZNAME:PDT
DTSTART:20230312T100000
END:DAYLIGHT
BEGIN:STANDARD
TZOFFSETFROM:-0700
TZOFFSETTO:-0800
TZNAME:PST
DTSTART:20231105T090000
END:STANDARD
BEGIN:DAYLIGHT
TZOFFSETFROM:-0800
TZOFFSETTO:-0700
TZNAME:PDT
DTSTART:20240310T100000
END:DAYLIGHT
BEGIN:STANDARD
TZOFFSETFROM:-0700
TZOFFSETTO:-0800
TZNAME:PST
DTSTART:20241103T090000
END:STANDARD
END:VTIMEZONE
BEGIN:VEVENT
DTSTART;VALUE=DATE:20230401
DTEND;VALUE=DATE:20230402
DTSTAMP:20260421T062341
CREATED:20230227T181003Z
LAST-MODIFIED:20230321T194210Z
UID:6369-1680307200-1680393599@cafiresafecouncil.org
SUMMARY:Placer PBA Rx Fire 101 workshop series - Colfax
DESCRIPTION:Rx FIRE 101 WORKSHOP: Colfax April 1 \nPlacer Prescribed Burn Association (Placer PBA) was founded by the Placer Resource Conservation District. Placer PBA is dedicated to equipping landowners with the knowledge\, skills\, and confidence to implement low-complexity prescribed burns. This workshop is free of charge and will cover topics including permitting\, liability\, fire effects on native plants\, heat management\, landowner resources\, and others. A panel of experienced instructors teach the course. This is a classroom workshop and no live fire will be used\, however\, training burns will be offered throughout the season so that landowners gain on-the-ground experience. \nDate: Saturday\, April 1 \nTime: 0800 – 1630 \nLocation: Colfax Elementary School\, 24825 Ben Taylor Rd.\, Colfax \nCost: FREE \nDescription: The Placer PBA Rx Fire 101 workshop series are tailored to private landowners hoping to implement prescribed burns on their property. Topics that are covered include permitting\, liability\, basics of fire\, heat management\, cultural burning\, and unit prep and mitigation. It is nearly impossible to learn how to implement prescribed burns through the classroom\, which is why Placer PBA pairs all of their workshops with demonstration burns to give landowners opportunities for boots on the ground experience. Please note that this is a classroom workshop only and no live fire will be used. Please contact Cordi Craig with any questions (cordi@placerrcd.org). \nREGISTER HERE
URL:https://cafiresafecouncil.org/event/colfax-prescribed-fire-101-workshop/
CATEGORIES:Partner Events
END:VEVENT
BEGIN:VEVENT
DTSTART;VALUE=DATE:20230405
DTEND;VALUE=DATE:20230406
DTSTAMP:20260421T062341
CREATED:20220720T181851Z
LAST-MODIFIED:20230406T180712Z
UID:5894-1680652800-1680739199@cafiresafecouncil.org
SUMMARY:CFSC Central CA Regional Monthly Meeting
DESCRIPTION:4/06/23 UPDATE: Thank you for attending CFSC’s Central California Regional Monthly Meeting on April 5\, 2023. You can view or download the video recording via the link below. \n\nhttps://us02web.zoom.us/rec/share/8wilMKchqJOjpq0Wluq47aLIl2i6QdD3K6vGPliHzvNfenEN1dnpCLPwP8vSCFhk.xpkSvmlDu7J2h1iS \n— \n\n2:00 PM – 3:00 PM\n\n\n\n\nPlease come join California Fire Safe Council Regional Coordinators during their monthly regional Check-ins and Networking Calls. Central California meets on the first Wednesday of each month at 2:00 PM. \n  \nPlease register in advance for this meeting: https://us02web.zoom.us/meeting/register/tZYkduyvqzIvGNDG-tRaH5rRRRdh7g-ANpma \nAfter registering\, you will receive a confirmation email containing information about joining the meeting. \n  \nFor questions\, please contact Brooke McAllister\, our Central California Regional Coordinator: bmcallister@cafiresafecouncil.org
URL:https://cafiresafecouncil.org/event/cfsc-central-ca-regional-monthly-meeting-2-2023-04-05/
CATEGORIES:CFSC Events,Regional Meetings
END:VEVENT
BEGIN:VEVENT
DTSTART;VALUE=DATE:20230412
DTEND;VALUE=DATE:20230413
DTSTAMP:20260421T062341
CREATED:20220720T182131Z
LAST-MODIFIED:20230508T172745Z
UID:5869-1681257600-1681343999@cafiresafecouncil.org
SUMMARY:CFSC Southern CA Regional Monthly Meeting
DESCRIPTION:4/19/23 UPDATE: Thank you for attending CFSC’s Southern California Regional Monthly Meeting on April 12\, 2023. You can view or download the video recording via the link below. \n\n\nhttps://us02web.zoom.us/rec/share/G85zl_fUl5sakvrdoPLDjS0mZ-vGd5UxykXkexfJG1dvWfP7Zw58C0x4CW02-8lR.w5GbfKAp3P-OMq3F \n\n— \n\n\nPlease come join California Fire Safe Council Regional Coordinators during their monthly regional Check-ins and Networking Calls. Southern California meets on the second Wednesday of each month at 12:00 PM. \n\nPlease register in advance for this meeting: https://us02web.zoom.us/meeting/register/tZcude2rrzwrGtLwWPdfEpXlIjCctNj99Tfb \nAfter registering\, you will receive a confirmation email containing information about joining the meeting. \nFor questions\, please contact Britney Munoz\, our Southern California Regional Coordinator: bmunoz@cafiresafecouncil.org
URL:https://cafiresafecouncil.org/event/cfsc-southern-ca-regional-monthly-meeting-2-2023-04-12/
CATEGORIES:CFSC Events,Regional Meetings
END:VEVENT
BEGIN:VEVENT
DTSTART;VALUE=DATE:20230415
DTEND;VALUE=DATE:20230416
DTSTAMP:20260421T062341
CREATED:20230302T174527Z
LAST-MODIFIED:20230302T174527Z
UID:6380-1681516800-1681603199@cafiresafecouncil.org
SUMMARY:Wildfire Safety Expo\, Fairfield
DESCRIPTION:  \nGreen Valley and Pleasants Valley Fire Safe Councils and partnering organizations are organizing a Wildfire Safety Expo set for April 15\, 10 a.m. to 3 p.m.\, at Solano Community College. \nAttendees can talk to local firefighters and other experts about fire prevention\, creating defensible space\, evacuation plans\, and home hardening. Activities planned include fire extinguisher demonstrations\, hands-only CPR lessons\, interactive programs with Red Cross\, disaster preparedness information\, music\, and food trucks. Children will be able to handle hoses in a Wildland Fire Progressive Hose Lay Demonstration. There also will be an inflatable fire house\, and a visit from Smokey Bear \nVendor and sponsorship opportunities are still available. Contact Rochelle Sherlock at Rochelle@PotentiateLLC.com or (707) 718-5637 to learn more. \nhttps://www.cordeliafire.org/2023-02-12-wildfire-safety-expo-set-for-april-15 \nDownload a flyer here: Wildfire Safety Expo Flyer_wSponsors Save The Date April 15 2023 (1)
URL:https://cafiresafecouncil.org/event/wildfire-safety-expo-fairfield/
CATEGORIES:Local FSC Events
END:VEVENT
BEGIN:VEVENT
DTSTART;VALUE=DATE:20230419
DTEND;VALUE=DATE:20230420
DTSTAMP:20260421T062341
CREATED:20230412T183450Z
LAST-MODIFIED:20230412T183608Z
UID:6552-1681862400-1681948799@cafiresafecouncil.org
SUMMARY:Managing Wildfires in Los Angeles County
DESCRIPTION:12:00 PM – 1:00 PM\n\n\n\n“Moderated by historian Wade Graham\, Chief Drew Smith and Chief Ron Durbin of the Los Angeles County Fire Department discuss the challenges of wildland fires in the Los Angeles area from both a management and ecological perspective.”\n\n\nThis is a virtual event. \n\n\nLearn more here: https://huntington.org/event/managing-wildfires-los-angeles-county
URL:https://cafiresafecouncil.org/event/managing-wildfires-in-los-angeles-county/
CATEGORIES:Partner Events
END:VEVENT
BEGIN:VEVENT
DTSTART;VALUE=DATE:20230427
DTEND;VALUE=DATE:20230428
DTSTAMP:20260421T062341
CREATED:20220720T182323Z
LAST-MODIFIED:20230508T172013Z
UID:5930-1682553600-1682639999@cafiresafecouncil.org
SUMMARY:CFSC Northern Ca Regional Monthly Meeting
DESCRIPTION:5/01/23 UPDATE: Thank you for attending CFSC’s Northern California Regional Monthly Meeting on April 27\, 2023. You can view or download the video recording via the link below. \nhttps://us02web.zoom.us/rec/share/FNpnj0l4haIgRQbjPY3tuSMWI3JTVCOhkwgADkQ8JHHDy907N0-qtHjUXrh2pg7Q.tl7vXJgJCNOiwFvG \n\n\n12:00 PM – 1:00 PM\n  \nPlease come join California Fire Safe Council Regional Coordinators during their monthly regional Check-ins and Networking Calls. Northern California meets on the fourth Thursday of each month at 12:00 PM. \nPlease register in advance for this meeting: https://us02web.zoom.us/meeting/register/tZwsdO2gqDMqHtFfuppXAQ5OxDF9g6fHwqE9 \nAfter registering\, you will receive a confirmation email containing information about joining the meeting. \nFor questions\, please contact our Northern California Regional Coordinator\, Mike Wilson. \nMike Wilson\, mwilson@cafiresafecouncil.org
URL:https://cafiresafecouncil.org/event/cfsc-northern-ca-regional-monthly-meeting-2-2023-04-27/
CATEGORIES:CFSC Events,Regional Meetings
END:VEVENT
END:VCALENDAR