BEGIN:VCALENDAR
VERSION:2.0
PRODID:-//California Fire Safe Council - ECPv6.15.17.1//NONSGML v1.0//EN
CALSCALE:GREGORIAN
METHOD:PUBLISH
X-WR-CALNAME:California Fire Safe Council
X-ORIGINAL-URL:https://cafiresafecouncil.org
X-WR-CALDESC:Events for California Fire Safe Council
REFRESH-INTERVAL;VALUE=DURATION:PT1H
X-Robots-Tag:noindex
X-PUBLISHED-TTL:PT1H
BEGIN:VTIMEZONE
TZID:America/Los_Angeles
BEGIN:DAYLIGHT
TZOFFSETFROM:-0800
TZOFFSETTO:-0700
TZNAME:PDT
DTSTART:20220313T100000
END:DAYLIGHT
BEGIN:STANDARD
TZOFFSETFROM:-0700
TZOFFSETTO:-0800
TZNAME:PST
DTSTART:20221106T090000
END:STANDARD
BEGIN:DAYLIGHT
TZOFFSETFROM:-0800
TZOFFSETTO:-0700
TZNAME:PDT
DTSTART:20230312T100000
END:DAYLIGHT
BEGIN:STANDARD
TZOFFSETFROM:-0700
TZOFFSETTO:-0800
TZNAME:PST
DTSTART:20231105T090000
END:STANDARD
BEGIN:DAYLIGHT
TZOFFSETFROM:-0800
TZOFFSETTO:-0700
TZNAME:PDT
DTSTART:20240310T100000
END:DAYLIGHT
BEGIN:STANDARD
TZOFFSETFROM:-0700
TZOFFSETTO:-0800
TZNAME:PST
DTSTART:20241103T090000
END:STANDARD
END:VTIMEZONE
BEGIN:VEVENT
DTSTART;VALUE=DATE:20230131
DTEND;VALUE=DATE:20230202
DTSTAMP:20260421T063802
CREATED:20230117T190507Z
LAST-MODIFIED:20230117T190507Z
UID:6273-1675123200-1675295999@cafiresafecouncil.org
SUMMARY:California Forestry Workforce Summit
DESCRIPTION:https://environment.ucdavis.edu/events/california-forestry-workforce-summit-0 \nUC Davis Conference Center\, 550 Alumni Lane\, Davis \nThe UC Davis Institute of the Environment\, in partnership with the Foundation for California Community Colleges’ Resilient Careers in Forestry program\, is excited to host the California Forestry Workforce Summit Jan. 31 and Feb. 1\, 2023 at the UC Davis Conference Center. \nThe event will provide a platform for federal and state leaders to identify challenges and resources for effective\, equitable workforce development in forestry and wildfire management and help Californians prepare for and secure meaningful careers in this vital sector. \nA broad range of stakeholder groups\, including government and tribal representatives\, forestry professionals\, researchers\, college and university administrators\, and others interested in forestry\, will participate in this critical multilateral dialogue. \nSpeakers include: \n\nStacy Caldwell\, CFRE\, CEO\, Tahoe Truckee Community Foundation\nMatt Dias\, President/CEO\, Calforests\nDon Hankins\, Ph.D.\, Professor of Geography and Planning\, California State University\, Chico\nSheba Person-Whitley\, Regional Director\, U.S. Economic Development Administration\nTim Robards\, Forestry and Fire Protection Administrator\, CAL FIRE\nRobert York\, Ph.D.\, Assistant Professor of Cooperative Extension\, Adjunct Associate Professor of Forestry\, UC Berkeley\nand many others\n\nThe summit will take place from 10 a.m. to 5 p.m. Tuesday\, Jan. 31\, 2023\, and 8:30 a.m. to 3 p.m. Wednesday\, Feb. 1\, 2023\, at the UC Davis Conference Center at 550 Alumni Lane in Davis. \nPlease click here for registration information. \nFor questions about the summit\, please contact conferences@foundationccc.org.
URL:https://cafiresafecouncil.org/event/california-forestry-workforce-summit/
CATEGORIES:Partner Events
END:VEVENT
BEGIN:VEVENT
DTSTART;VALUE=DATE:20230201
DTEND;VALUE=DATE:20230202
DTSTAMP:20260421T063802
CREATED:20220720T181851Z
LAST-MODIFIED:20230209T211140Z
UID:5892-1675209600-1675295999@cafiresafecouncil.org
SUMMARY:CFSC Central CA Regional Monthly Meeting
DESCRIPTION:2/09/23 UPDATE: Thank you for attending CFSC’s Central California Regional Monthly Meeting on February 1\, 2023. You can view or download the video recording via the link below. \n\nhttps://us02web.zoom.us/rec/share/7MjCpahqRc56IfrDRSz-3PmtDzjP9LwbKZ4qZjiXlhmPWZk4A6jkGSXJcIlFeCxV.cHHV796MNOp4w__L \n  \n\n2:00 PM – 3:00 PM \n\n\n\nPlease come join California Fire Safe Council Regional Coordinators during their monthly regional Check-ins and Networking Calls. Central California meets on the first Wednesday of each month at 2:00 PM. \n  \nPlease register in advance for this meeting: https://us02web.zoom.us/meeting/register/tZYkduyvqzIvGNDG-tRaH5rRRRdh7g-ANpma \nAfter registering\, you will receive a confirmation email containing information about joining the meeting. \n  \nFor questions\, please contact Brooke McAllister\, our Central California Regional Coordinator: bmcallister@cafiresafecouncil.org
URL:https://cafiresafecouncil.org/event/cfsc-central-ca-regional-monthly-meeting-2-2023-02-01/
CATEGORIES:CFSC Events,Regional Meetings
END:VEVENT
BEGIN:VEVENT
DTSTART;VALUE=DATE:20230202
DTEND;VALUE=DATE:20230204
DTSTAMP:20260421T063802
CREATED:20230117T190946Z
LAST-MODIFIED:20230117T190946Z
UID:6274-1675296000-1675468799@cafiresafecouncil.org
SUMMARY:CA Wildfire & Resilience Task Force\, Southern California Regional Meeting
DESCRIPTION:https://wildfiretaskforce.org/southern-california-regional-meeting/ \nThe Southern California Regional Meeting will be held in person in Calabasas\, with a LiveStream option for remote attendance. Hosted by the Santa Monica Mountains Conservancy (SMMC) and Mountains Recreation and Conservation Authority (MRCA)\, discussions will focus on Southern California\, with updates and panel discussions about real progress being made on the ground\, and opportunities to network with partners from around the state. We look forward to connecting\, committing to action\, and collaborating on real solutions to the daunting challenges facing our landscapes and communities. The meeting will open with a Resource Fair to showcase local organizations at work in Southern California. Field tours will be offered on February 3. \n\nKing Gillette Ranch\n26800 Mulholland Hwy\nCalabasas\, CA \n\nRegister for in-person attendance here: https://www.eventbrite.com/e/southern-california-regional-meeting-of-the-task-force-tickets-462022580977  \nRegister for virtual attendance here: https://us02web.zoom.us/webinar/register/WN_tfTcEzsMSxa6UVEcVAXoQg \nView the full agenda here: https://wildfiretaskforce.org/wp-content/uploads/2023/01/TF_SoCal_Agenda.pdf
URL:https://cafiresafecouncil.org/event/ca-wildfire-resilience-task-force-southern-california-regional-meeting/
CATEGORIES:Partner Events
END:VEVENT
BEGIN:VEVENT
DTSTART;VALUE=DATE:20230207
DTEND;VALUE=DATE:20230211
DTSTAMP:20260421T063802
CREATED:20230105T201924Z
LAST-MODIFIED:20230105T222145Z
UID:6245-1675728000-1676073599@cafiresafecouncil.org
SUMMARY:UC Davis Wildfire Resilient Structures (WiReS) Conference and Tradeshow
DESCRIPTION:February 7 – 10\, 2023.\nFebruary 7th: Pre-Conference Trainings\nFebruary 8th: Program & Tradeshow Day 1\nFebruary 9th: Program & Tradeshow Day 2\nFebruary 10th: 1/2 Day program concluding at 12pm PT. \nThe UC Davis WiReS Conference and Tradeshow\, will act as a catalyst for solution implementation – bringing together stakeholders from academia\, government\, construction\, insurance\, manufacturing\, emergency response\, real estate\, and housing\, to address wildfire mitigation solutions for the built environment to support resilient and equitable communities. Featuring three-days of technical sessions\, workshops\, small group meetings\, as well as pre-program trainings – plus an exhibition of organizations showcasing various wildfire resilient and preventative technologies\, materials\, and services – the WiReS Conference will help bringing greater attention to long-term and short-term solutions for improving wildfire resilience of buildings worldwide. \nThe WiReS Conference aims to foster cross-disciplinary dialogues between fire resilient practitioners\, researchers\, leading policymakers\, and industry leaders. With a shared goal of implementation through education\, the WiReS conference will make local\, regional\, and state impact through the presentation and promotion of applied science\, knowledge\, and technology advancements to Decision Makers. \nAll are invited to attend. Registration is information is available on the event website: https://wires.aqrc.ucdavis.edu/
URL:https://cafiresafecouncil.org/event/uc-davis-wildfire-resilient-structures-wires-conference-and-tradeshow/
CATEGORIES:Partner Events
END:VEVENT
BEGIN:VEVENT
DTSTART;VALUE=DATE:20230208
DTEND;VALUE=DATE:20230209
DTSTAMP:20260421T063802
CREATED:20220720T182131Z
LAST-MODIFIED:20230209T210716Z
UID:5867-1675814400-1675900799@cafiresafecouncil.org
SUMMARY:CFSC Southern CA Regional Monthly Meeting
DESCRIPTION:2/09/23 UPDATE: Thank you for attending CFSC’s Southern California Regional Monthly Meeting on February 8\, 2023. You can view or download the video recording via the link below. \n\nhttps://us02web.zoom.us/rec/share/XNcuyL_YAP3JkZdB8hvjGMABt2TSYJofnkcwswpHsXnyDkkPEAXEWch_Z0STDkld.ZfmUn3SGYXV7C0jQ \n\n  \n\n12:00 PM – 1:00 PM\n\n\n\n\nPlease come join California Fire Safe Council Regional Coordinators during their monthly regional Check-ins and Networking Calls. Southern California meets on the second Wednesday of each month at 12:00 PM. \n  \nPlease register in advance for this meeting: https://us02web.zoom.us/meeting/register/tZcude2rrzwrGtLwWPdfEpXlIjCctNj99Tfb \nAfter registering\, you will receive a confirmation email containing information about joining the meeting. \n  \nFor questions\, please contact Britney Munoz\, our Southern California Regional Coordinator: bmunoz@cafiresafecouncil.org
URL:https://cafiresafecouncil.org/event/cfsc-southern-ca-regional-monthly-meeting-2-2023-02-08/
CATEGORIES:CFSC Events,Regional Meetings
END:VEVENT
BEGIN:VEVENT
DTSTART;VALUE=DATE:20230221
DTEND;VALUE=DATE:20230222
DTSTAMP:20260421T063802
CREATED:20230201T164614Z
LAST-MODIFIED:20240110T190546Z
UID:6309-1676937600-1677023999@cafiresafecouncil.org
SUMMARY:CFSC County Coordinator Monthly Meeting
DESCRIPTION:The CFSC Monthly County Coordinator Meeting Series is held on the 3rd Tuesday of the month at 11AM. The Meeting Series is an opportunity for subrecipients of the County Coordinator Grant Program to network\, engage\, and share resources. Registration is open to CFSC County Coordinators only. For questions or registration information\, please contact Julia Marsili\, jmarsili@cafiresafecouncil.org.
URL:https://cafiresafecouncil.org/event/cfsc-county-coordinator-monthly-meeting/
CATEGORIES:CFSC Events
END:VEVENT
BEGIN:VEVENT
DTSTART;VALUE=DATE:20230223
DTEND;VALUE=DATE:20230224
DTSTAMP:20260421T063802
CREATED:20230216T162821Z
LAST-MODIFIED:20230216T162821Z
UID:6355-1677110400-1677196799@cafiresafecouncil.org
SUMMARY:Prescribed Grazing in Ventura County\, Ventura RCD
DESCRIPTION:FREE Virtual Wildfire Speaker Series! \n  \n“Join us February 23\, 2023\, from 6 pm – 7 pm to learn about Prescribed Grazing in Ventura County featuring Michael Leicht of Ventura Brush Goats and Cole Bush & Dylan Boeken of Shepherdess Land & Livestock Co.  \nVentura Brush Goats is a family-owned weed abatement and soil improvement service based in Ventura County that grazes fire-breaks and eliminates invasive brush while restoring natural fertility with their goat herd. Shepherdess Land & Livestock is a 100% woman-owned and operated business providing contract grazing services for vegetation management using holistic prescribed grazing methods with goats and sheep. \nCome learn about how prescribed grazing can mitigate wildfires in a way that benefits soil health\, native habitat\, and water systems from local businesses right here in Ventura County!  \n\n  \nRegister online here.  \nFor more information or any questions\, reach out to mason.thurmond@vcrcd.org.” \n 
URL:https://cafiresafecouncil.org/event/prescribed-grazing-in-ventura-county-ventura-rcd/
CATEGORIES:Partner Events
END:VEVENT
BEGIN:VEVENT
DTSTART;VALUE=DATE:20230223
DTEND;VALUE=DATE:20230224
DTSTAMP:20260421T063802
CREATED:20220720T182323Z
LAST-MODIFIED:20230227T220824Z
UID:5928-1677110400-1677196799@cafiresafecouncil.org
SUMMARY:CFSC Northern Ca Regional Monthly Meeting
DESCRIPTION:2/27 UPDATE: Thank you for attending CFSC’s Northern California Regional Monthly Meeting on February 23\, 2023. You can view or download the video recording via the link below. \nLiam Galleher’s Powerpoint Presentation: 02/23/2023 \nhttps://us02web.zoom.us/rec/share/TZV-hjcmzuGmccBlUua3nQ9tdApHNTe87MkRVfkwQFmIzq4TM-me0ePU_BNlLx4_.WulJUpUV-eOQC4nU  \n\n\n  \n12:00 PM – 1:00 PM\n  \nPlease come join California Fire Safe Council Regional Coordinators during their monthly regional Check-ins and Networking Calls. Northern California meets on the last Thursday of each month at 12:00 PM. \nPlease register in advance for this meeting: https://us02web.zoom.us/meeting/register/tZwsdO2gqDMqHtFfuppXAQ5OxDF9g6fHwqE9 \nAfter registering\, you will receive a confirmation email containing information about joining the meeting. \nFor questions\, please contact a CFSC Regional Coordinator: \nBrooke McAllister\, bmcallister@cafiresafecouncil.org \nBritney Munoz\, bmunoz@cafiresafecouncil.org
URL:https://cafiresafecouncil.org/event/cfsc-northern-ca-regional-monthly-meeting-2-2023-02-23/
CATEGORIES:CFSC Events,Regional Meetings
END:VEVENT
BEGIN:VEVENT
DTSTART;VALUE=DATE:20230226
DTEND;VALUE=DATE:20230304
DTSTAMP:20260421T063802
CREATED:20230117T191627Z
LAST-MODIFIED:20230117T191734Z
UID:6275-1677369600-1677887999@cafiresafecouncil.org
SUMMARY:CAFF California Small Farm Conference
DESCRIPTION:California Small Farm Conference\, hosted by Community Alliance with Family Farmers (CAFF) \nFebruary 26\, 2023 – March 3\, 2023 \nhttps://caff.org \n\n\n\nThe 35th annual California Small Farm Conference is a week of learning\, inspiration\, and movement-building. The hybrid conference features over 50 online workshops\, videos\, and interactive forums\, as well as in-person gatherings around the state. Admission is on a sliding scale. \n\nView the full agenda here: https://casmallfarmconference.sched.com \n 
URL:https://cafiresafecouncil.org/event/caff-california-small-farm-conference/
CATEGORIES:Partner Events
END:VEVENT
BEGIN:VEVENT
DTSTART;VALUE=DATE:20230227
DTEND;VALUE=DATE:20230301
DTSTAMP:20260421T063802
CREATED:20230117T192212Z
LAST-MODIFIED:20230117T192304Z
UID:6276-1677456000-1677628799@cafiresafecouncil.org
SUMMARY:Forest Strategies and Innovations (FSI) Calforests Conference
DESCRIPTION:https://calforests.org/page/FSI2023 \nhttps://calforests.org \nSacramento\, CA \nAbout Forestry Strategies and Innovations (FSI) \nPreviously known as the Calforests Annual Conference\, FSI brings together the state’s forestry sector and key partners in an effort to engage in critical conversations surrounding the industry\, to evaluate and improve best practices\, to share important knowledge and innovations\, and to invite key stakeholders to further the work of forest management and wildfire protection. \nTentative Schedule  \nDay 1:  Monday\, February 27\, 2023 – 11 AM to 7 PM \nDay 2:  Tuesday\, February 28\, 2023 – 8 AM to 7 PM \nDay 2:  Optional Annual Dinner is 7 PM – 9 PM \nThe full agenda to be released in January 2023! \nPricing Deadlines \nEarly Bird pricing on select tickets is extended thru January 22\, 2023.  At checkout a $25 discount will automatically be applied for 2-day\, Faculty/Educator and Day 2 only attendees. The deadline to register using standard pricing is Sunday\, February 12\, 2023. \nHotel  \nCalforests established a room block at the Kimpton Sawyer Hotel. Upon registration\, participants will receive emailed instructions on how to utilize the room block. Please note all rooms must be booked on or before Monday\, January 30\, 2023 to take advantage of the room block discounts. \n Event Coordinator \nIf you need further assistance or have any questions please contact\, Cara Ward-Mendoza via email or 916-628-2747 cell.
URL:https://cafiresafecouncil.org/event/calforests-forest-strategies-and-innovations-2023/
CATEGORIES:Partner Events
END:VEVENT
END:VCALENDAR