BEGIN:VCALENDAR
VERSION:2.0
PRODID:-//California Fire Safe Council - ECPv6.15.17.1//NONSGML v1.0//EN
CALSCALE:GREGORIAN
METHOD:PUBLISH
X-ORIGINAL-URL:https://cafiresafecouncil.org
X-WR-CALDESC:Events for California Fire Safe Council
REFRESH-INTERVAL;VALUE=DURATION:PT1H
X-Robots-Tag:noindex
X-PUBLISHED-TTL:PT1H
BEGIN:VTIMEZONE
TZID:America/Los_Angeles
BEGIN:DAYLIGHT
TZOFFSETFROM:-0800
TZOFFSETTO:-0700
TZNAME:PDT
DTSTART:20220313T100000
END:DAYLIGHT
BEGIN:STANDARD
TZOFFSETFROM:-0700
TZOFFSETTO:-0800
TZNAME:PST
DTSTART:20221106T090000
END:STANDARD
BEGIN:DAYLIGHT
TZOFFSETFROM:-0800
TZOFFSETTO:-0700
TZNAME:PDT
DTSTART:20230312T100000
END:DAYLIGHT
BEGIN:STANDARD
TZOFFSETFROM:-0700
TZOFFSETTO:-0800
TZNAME:PST
DTSTART:20231105T090000
END:STANDARD
BEGIN:DAYLIGHT
TZOFFSETFROM:-0800
TZOFFSETTO:-0700
TZNAME:PDT
DTSTART:20240310T100000
END:DAYLIGHT
BEGIN:STANDARD
TZOFFSETFROM:-0700
TZOFFSETTO:-0800
TZNAME:PST
DTSTART:20241103T090000
END:STANDARD
END:VTIMEZONE
BEGIN:VEVENT
DTSTART;VALUE=DATE:20230415
DTEND;VALUE=DATE:20230416
DTSTAMP:20260422T020255
CREATED:20230302T174527Z
LAST-MODIFIED:20230302T174527Z
UID:6380-1681516800-1681603199@cafiresafecouncil.org
SUMMARY:Wildfire Safety Expo\, Fairfield
DESCRIPTION:  \nGreen Valley and Pleasants Valley Fire Safe Councils and partnering organizations are organizing a Wildfire Safety Expo set for April 15\, 10 a.m. to 3 p.m.\, at Solano Community College. \nAttendees can talk to local firefighters and other experts about fire prevention\, creating defensible space\, evacuation plans\, and home hardening. Activities planned include fire extinguisher demonstrations\, hands-only CPR lessons\, interactive programs with Red Cross\, disaster preparedness information\, music\, and food trucks. Children will be able to handle hoses in a Wildland Fire Progressive Hose Lay Demonstration. There also will be an inflatable fire house\, and a visit from Smokey Bear \nVendor and sponsorship opportunities are still available. Contact Rochelle Sherlock at Rochelle@PotentiateLLC.com or (707) 718-5637 to learn more. \nhttps://www.cordeliafire.org/2023-02-12-wildfire-safety-expo-set-for-april-15 \nDownload a flyer here: Wildfire Safety Expo Flyer_wSponsors Save The Date April 15 2023 (1)
URL:https://cafiresafecouncil.org/event/wildfire-safety-expo-fairfield/
CATEGORIES:Local FSC Events
END:VEVENT
END:VCALENDAR