BEGIN:VCALENDAR
VERSION:2.0
PRODID:-//California Fire Safe Council - ECPv6.15.17.1//NONSGML v1.0//EN
CALSCALE:GREGORIAN
METHOD:PUBLISH
X-WR-CALNAME:California Fire Safe Council
X-ORIGINAL-URL:https://cafiresafecouncil.org
X-WR-CALDESC:Events for California Fire Safe Council
REFRESH-INTERVAL;VALUE=DURATION:PT1H
X-Robots-Tag:noindex
X-PUBLISHED-TTL:PT1H
BEGIN:VTIMEZONE
TZID:America/Los_Angeles
BEGIN:DAYLIGHT
TZOFFSETFROM:-0800
TZOFFSETTO:-0700
TZNAME:PDT
DTSTART:20250309T100000
END:DAYLIGHT
BEGIN:STANDARD
TZOFFSETFROM:-0700
TZOFFSETTO:-0800
TZNAME:PST
DTSTART:20251102T090000
END:STANDARD
BEGIN:DAYLIGHT
TZOFFSETFROM:-0800
TZOFFSETTO:-0700
TZNAME:PDT
DTSTART:20260308T100000
END:DAYLIGHT
BEGIN:STANDARD
TZOFFSETFROM:-0700
TZOFFSETTO:-0800
TZNAME:PST
DTSTART:20261101T090000
END:STANDARD
BEGIN:DAYLIGHT
TZOFFSETFROM:-0800
TZOFFSETTO:-0700
TZNAME:PDT
DTSTART:20270314T100000
END:DAYLIGHT
BEGIN:STANDARD
TZOFFSETFROM:-0700
TZOFFSETTO:-0800
TZNAME:PST
DTSTART:20271107T090000
END:STANDARD
BEGIN:DAYLIGHT
TZOFFSETFROM:-0800
TZOFFSETTO:-0700
TZNAME:PDT
DTSTART:20280312T100000
END:DAYLIGHT
BEGIN:STANDARD
TZOFFSETFROM:-0700
TZOFFSETTO:-0800
TZNAME:PST
DTSTART:20281105T090000
END:STANDARD
BEGIN:DAYLIGHT
TZOFFSETFROM:-0800
TZOFFSETTO:-0700
TZNAME:PDT
DTSTART:20290311T100000
END:DAYLIGHT
BEGIN:STANDARD
TZOFFSETFROM:-0700
TZOFFSETTO:-0800
TZNAME:PST
DTSTART:20291104T090000
END:STANDARD
END:VTIMEZONE
BEGIN:VEVENT
DTSTART;TZID=America/Los_Angeles:20260507T120000
DTEND;TZID=America/Los_Angeles:20260507T130000
DTSTAMP:20260423T214740
CREATED:20250807T212639Z
LAST-MODIFIED:20260331T231426Z
UID:9765-1778155200-1778158800@cafiresafecouncil.org
SUMMARY:Northern/Central CA Regional Office Hours
DESCRIPTION:The Northern/Central California Regional Open Office Hour occurs on the first Thursday of the month\, from 12:00 to 1:00 PM. \nMicrosoft Teams meeting \nJoin: https://teams.microsoft.com/meet/22977693935752?p=rjZKbQWES9utaxoLB8 \nMeeting ID: 229 776 939 357 52 \nPasscode: 48sm7qH6
URL:https://cafiresafecouncil.org/event/northern-central-ca-regional-office-hours/2026-05-07/
CATEGORIES:CFSC Events
END:VEVENT
BEGIN:VEVENT
DTSTART;TZID=America/Los_Angeles:20260604T120000
DTEND;TZID=America/Los_Angeles:20260604T130000
DTSTAMP:20260423T214740
CREATED:20250807T212639Z
LAST-MODIFIED:20260331T231426Z
UID:9766-1780574400-1780578000@cafiresafecouncil.org
SUMMARY:Northern/Central CA Regional Office Hours
DESCRIPTION:The Northern/Central California Regional Open Office Hour occurs on the first Thursday of the month\, from 12:00 to 1:00 PM. \nMicrosoft Teams meeting \nJoin: https://teams.microsoft.com/meet/22977693935752?p=rjZKbQWES9utaxoLB8 \nMeeting ID: 229 776 939 357 52 \nPasscode: 48sm7qH6
URL:https://cafiresafecouncil.org/event/northern-central-ca-regional-office-hours/2026-06-04/
CATEGORIES:CFSC Events
END:VEVENT
BEGIN:VEVENT
DTSTART;TZID=America/Los_Angeles:20260702T120000
DTEND;TZID=America/Los_Angeles:20260702T130000
DTSTAMP:20260423T214740
CREATED:20250807T212639Z
LAST-MODIFIED:20260331T231426Z
UID:9768-1782993600-1782997200@cafiresafecouncil.org
SUMMARY:Northern/Central CA Regional Office Hours
DESCRIPTION:The Northern/Central California Regional Open Office Hour occurs on the first Thursday of the month\, from 12:00 to 1:00 PM. \nMicrosoft Teams meeting \nJoin: https://teams.microsoft.com/meet/22977693935752?p=rjZKbQWES9utaxoLB8 \nMeeting ID: 229 776 939 357 52 \nPasscode: 48sm7qH6
URL:https://cafiresafecouncil.org/event/northern-central-ca-regional-office-hours/2026-07-02/
CATEGORIES:CFSC Events
END:VEVENT
BEGIN:VEVENT
DTSTART;TZID=America/Los_Angeles:20260806T120000
DTEND;TZID=America/Los_Angeles:20260806T130000
DTSTAMP:20260423T214740
CREATED:20250807T212639Z
LAST-MODIFIED:20260331T231429Z
UID:9769-1786017600-1786021200@cafiresafecouncil.org
SUMMARY:Northern/Central CA Regional Office Hours
DESCRIPTION:The Northern/Central California Regional Open Office Hour occurs on the first Thursday of the month\, from 12:00 to 1:00 PM. \nMicrosoft Teams meeting \nJoin: https://teams.microsoft.com/meet/22977693935752?p=rjZKbQWES9utaxoLB8 \nMeeting ID: 229 776 939 357 52 \nPasscode: 48sm7qH6
URL:https://cafiresafecouncil.org/event/northern-central-ca-regional-office-hours/2026-08-06/
CATEGORIES:CFSC Events
END:VEVENT
BEGIN:VEVENT
DTSTART;TZID=America/Los_Angeles:20260903T120000
DTEND;TZID=America/Los_Angeles:20260903T130000
DTSTAMP:20260423T214740
CREATED:20250807T212639Z
LAST-MODIFIED:20260331T231429Z
UID:9770-1788436800-1788440400@cafiresafecouncil.org
SUMMARY:Northern/Central CA Regional Office Hours
DESCRIPTION:The Northern/Central California Regional Open Office Hour occurs on the first Thursday of the month\, from 12:00 to 1:00 PM. \nMicrosoft Teams meeting \nJoin: https://teams.microsoft.com/meet/22977693935752?p=rjZKbQWES9utaxoLB8 \nMeeting ID: 229 776 939 357 52 \nPasscode: 48sm7qH6
URL:https://cafiresafecouncil.org/event/northern-central-ca-regional-office-hours/2026-09-03/
CATEGORIES:CFSC Events
END:VEVENT
BEGIN:VEVENT
DTSTART;TZID=America/Los_Angeles:20261001T120000
DTEND;TZID=America/Los_Angeles:20261001T130000
DTSTAMP:20260423T214740
CREATED:20250807T212639Z
LAST-MODIFIED:20260331T231430Z
UID:9771-1790856000-1790859600@cafiresafecouncil.org
SUMMARY:Northern/Central CA Regional Office Hours
DESCRIPTION:The Northern/Central California Regional Open Office Hour occurs on the first Thursday of the month\, from 12:00 to 1:00 PM. \nMicrosoft Teams meeting \nJoin: https://teams.microsoft.com/meet/22977693935752?p=rjZKbQWES9utaxoLB8 \nMeeting ID: 229 776 939 357 52 \nPasscode: 48sm7qH6
URL:https://cafiresafecouncil.org/event/northern-central-ca-regional-office-hours/2026-10-01/
CATEGORIES:CFSC Events
END:VEVENT
BEGIN:VEVENT
DTSTART;TZID=America/Los_Angeles:20261105T120000
DTEND;TZID=America/Los_Angeles:20261105T130000
DTSTAMP:20260423T214740
CREATED:20250807T212639Z
LAST-MODIFIED:20260331T231430Z
UID:9772-1793880000-1793883600@cafiresafecouncil.org
SUMMARY:Northern/Central CA Regional Office Hours
DESCRIPTION:The Northern/Central California Regional Open Office Hour occurs on the first Thursday of the month\, from 12:00 to 1:00 PM. \nMicrosoft Teams meeting \nJoin: https://teams.microsoft.com/meet/22977693935752?p=rjZKbQWES9utaxoLB8 \nMeeting ID: 229 776 939 357 52 \nPasscode: 48sm7qH6
URL:https://cafiresafecouncil.org/event/northern-central-ca-regional-office-hours/2026-11-05/
CATEGORIES:CFSC Events
END:VEVENT
BEGIN:VEVENT
DTSTART;TZID=America/Los_Angeles:20261203T120000
DTEND;TZID=America/Los_Angeles:20261203T130000
DTSTAMP:20260423T214740
CREATED:20250807T212639Z
LAST-MODIFIED:20260331T231430Z
UID:9773-1796299200-1796302800@cafiresafecouncil.org
SUMMARY:Northern/Central CA Regional Office Hours
DESCRIPTION:The Northern/Central California Regional Open Office Hour occurs on the first Thursday of the month\, from 12:00 to 1:00 PM. \nMicrosoft Teams meeting \nJoin: https://teams.microsoft.com/meet/22977693935752?p=rjZKbQWES9utaxoLB8 \nMeeting ID: 229 776 939 357 52 \nPasscode: 48sm7qH6
URL:https://cafiresafecouncil.org/event/northern-central-ca-regional-office-hours/2026-12-03/
CATEGORIES:CFSC Events
END:VEVENT
BEGIN:VEVENT
DTSTART;TZID=America/Los_Angeles:20270107T120000
DTEND;TZID=America/Los_Angeles:20270107T130000
DTSTAMP:20260423T214740
CREATED:20250807T212639Z
LAST-MODIFIED:20260331T231430Z
UID:9774-1799323200-1799326800@cafiresafecouncil.org
SUMMARY:Northern/Central CA Regional Office Hours
DESCRIPTION:The Northern/Central California Regional Open Office Hour occurs on the first Thursday of the month\, from 12:00 to 1:00 PM. \nMicrosoft Teams meeting \nJoin: https://teams.microsoft.com/meet/22977693935752?p=rjZKbQWES9utaxoLB8 \nMeeting ID: 229 776 939 357 52 \nPasscode: 48sm7qH6
URL:https://cafiresafecouncil.org/event/northern-central-ca-regional-office-hours/2027-01-07/
CATEGORIES:CFSC Events
END:VEVENT
BEGIN:VEVENT
DTSTART;TZID=America/Los_Angeles:20270204T120000
DTEND;TZID=America/Los_Angeles:20270204T130000
DTSTAMP:20260423T214740
CREATED:20250807T212639Z
LAST-MODIFIED:20260331T231431Z
UID:9775-1801742400-1801746000@cafiresafecouncil.org
SUMMARY:Northern/Central CA Regional Office Hours
DESCRIPTION:The Northern/Central California Regional Open Office Hour occurs on the first Thursday of the month\, from 12:00 to 1:00 PM. \nMicrosoft Teams meeting \nJoin: https://teams.microsoft.com/meet/22977693935752?p=rjZKbQWES9utaxoLB8 \nMeeting ID: 229 776 939 357 52 \nPasscode: 48sm7qH6
URL:https://cafiresafecouncil.org/event/northern-central-ca-regional-office-hours/2027-02-04/
CATEGORIES:CFSC Events
END:VEVENT
BEGIN:VEVENT
DTSTART;TZID=America/Los_Angeles:20270304T120000
DTEND;TZID=America/Los_Angeles:20270304T130000
DTSTAMP:20260423T214740
CREATED:20250807T212639Z
LAST-MODIFIED:20260331T231431Z
UID:9776-1804161600-1804165200@cafiresafecouncil.org
SUMMARY:Northern/Central CA Regional Office Hours
DESCRIPTION:The Northern/Central California Regional Open Office Hour occurs on the first Thursday of the month\, from 12:00 to 1:00 PM. \nMicrosoft Teams meeting \nJoin: https://teams.microsoft.com/meet/22977693935752?p=rjZKbQWES9utaxoLB8 \nMeeting ID: 229 776 939 357 52 \nPasscode: 48sm7qH6
URL:https://cafiresafecouncil.org/event/northern-central-ca-regional-office-hours/2027-03-04/
CATEGORIES:CFSC Events
END:VEVENT
BEGIN:VEVENT
DTSTART;TZID=America/Los_Angeles:20270401T120000
DTEND;TZID=America/Los_Angeles:20270401T130000
DTSTAMP:20260423T214740
CREATED:20250807T212639Z
LAST-MODIFIED:20260331T231431Z
UID:9777-1806580800-1806584400@cafiresafecouncil.org
SUMMARY:Northern/Central CA Regional Office Hours
DESCRIPTION:The Northern/Central California Regional Open Office Hour occurs on the first Thursday of the month\, from 12:00 to 1:00 PM. \nMicrosoft Teams meeting \nJoin: https://teams.microsoft.com/meet/22977693935752?p=rjZKbQWES9utaxoLB8 \nMeeting ID: 229 776 939 357 52 \nPasscode: 48sm7qH6
URL:https://cafiresafecouncil.org/event/northern-central-ca-regional-office-hours/2027-04-01/
CATEGORIES:CFSC Events
END:VEVENT
BEGIN:VEVENT
DTSTART;TZID=America/Los_Angeles:20270506T120000
DTEND;TZID=America/Los_Angeles:20270506T130000
DTSTAMP:20260423T214740
CREATED:20250807T212639Z
LAST-MODIFIED:20260331T231432Z
UID:9778-1809604800-1809608400@cafiresafecouncil.org
SUMMARY:Northern/Central CA Regional Office Hours
DESCRIPTION:The Northern/Central California Regional Open Office Hour occurs on the first Thursday of the month\, from 12:00 to 1:00 PM. \nMicrosoft Teams meeting \nJoin: https://teams.microsoft.com/meet/22977693935752?p=rjZKbQWES9utaxoLB8 \nMeeting ID: 229 776 939 357 52 \nPasscode: 48sm7qH6
URL:https://cafiresafecouncil.org/event/northern-central-ca-regional-office-hours/2027-05-06/
CATEGORIES:CFSC Events
END:VEVENT
BEGIN:VEVENT
DTSTART;TZID=America/Los_Angeles:20270603T120000
DTEND;TZID=America/Los_Angeles:20270603T130000
DTSTAMP:20260423T214740
CREATED:20250807T212639Z
LAST-MODIFIED:20260331T231433Z
UID:9779-1812024000-1812027600@cafiresafecouncil.org
SUMMARY:Northern/Central CA Regional Office Hours
DESCRIPTION:The Northern/Central California Regional Open Office Hour occurs on the first Thursday of the month\, from 12:00 to 1:00 PM. \nMicrosoft Teams meeting \nJoin: https://teams.microsoft.com/meet/22977693935752?p=rjZKbQWES9utaxoLB8 \nMeeting ID: 229 776 939 357 52 \nPasscode: 48sm7qH6
URL:https://cafiresafecouncil.org/event/northern-central-ca-regional-office-hours/2027-06-03/
CATEGORIES:CFSC Events
END:VEVENT
BEGIN:VEVENT
DTSTART;TZID=America/Los_Angeles:20270701T120000
DTEND;TZID=America/Los_Angeles:20270701T130000
DTSTAMP:20260423T214740
CREATED:20250807T212639Z
LAST-MODIFIED:20260331T231433Z
UID:9780-1814443200-1814446800@cafiresafecouncil.org
SUMMARY:Northern/Central CA Regional Office Hours
DESCRIPTION:The Northern/Central California Regional Open Office Hour occurs on the first Thursday of the month\, from 12:00 to 1:00 PM. \nMicrosoft Teams meeting \nJoin: https://teams.microsoft.com/meet/22977693935752?p=rjZKbQWES9utaxoLB8 \nMeeting ID: 229 776 939 357 52 \nPasscode: 48sm7qH6
URL:https://cafiresafecouncil.org/event/northern-central-ca-regional-office-hours/2027-07-01/
CATEGORIES:CFSC Events
END:VEVENT
BEGIN:VEVENT
DTSTART;TZID=America/Los_Angeles:20270805T120000
DTEND;TZID=America/Los_Angeles:20270805T130000
DTSTAMP:20260423T214740
CREATED:20250807T212639Z
LAST-MODIFIED:20260331T231433Z
UID:9781-1817467200-1817470800@cafiresafecouncil.org
SUMMARY:Northern/Central CA Regional Office Hours
DESCRIPTION:The Northern/Central California Regional Open Office Hour occurs on the first Thursday of the month\, from 12:00 to 1:00 PM. \nMicrosoft Teams meeting \nJoin: https://teams.microsoft.com/meet/22977693935752?p=rjZKbQWES9utaxoLB8 \nMeeting ID: 229 776 939 357 52 \nPasscode: 48sm7qH6
URL:https://cafiresafecouncil.org/event/northern-central-ca-regional-office-hours/2027-08-05/
CATEGORIES:CFSC Events
END:VEVENT
BEGIN:VEVENT
DTSTART;TZID=America/Los_Angeles:20270902T120000
DTEND;TZID=America/Los_Angeles:20270902T130000
DTSTAMP:20260423T214740
CREATED:20250807T212639Z
LAST-MODIFIED:20260331T231433Z
UID:9887-1819886400-1819890000@cafiresafecouncil.org
SUMMARY:Northern/Central CA Regional Office Hours
DESCRIPTION:The Northern/Central California Regional Open Office Hour occurs on the first Thursday of the month\, from 12:00 to 1:00 PM. \nMicrosoft Teams meeting \nJoin: https://teams.microsoft.com/meet/22977693935752?p=rjZKbQWES9utaxoLB8 \nMeeting ID: 229 776 939 357 52 \nPasscode: 48sm7qH6
URL:https://cafiresafecouncil.org/event/northern-central-ca-regional-office-hours/2027-09-02/
CATEGORIES:CFSC Events
END:VEVENT
BEGIN:VEVENT
DTSTART;TZID=America/Los_Angeles:20271007T120000
DTEND;TZID=America/Los_Angeles:20271007T130000
DTSTAMP:20260423T214740
CREATED:20250807T212639Z
LAST-MODIFIED:20260331T231434Z
UID:10125-1822910400-1822914000@cafiresafecouncil.org
SUMMARY:Northern/Central CA Regional Office Hours
DESCRIPTION:The Northern/Central California Regional Open Office Hour occurs on the first Thursday of the month\, from 12:00 to 1:00 PM. \nMicrosoft Teams meeting \nJoin: https://teams.microsoft.com/meet/22977693935752?p=rjZKbQWES9utaxoLB8 \nMeeting ID: 229 776 939 357 52 \nPasscode: 48sm7qH6
URL:https://cafiresafecouncil.org/event/northern-central-ca-regional-office-hours/2027-10-07/
CATEGORIES:CFSC Events
END:VEVENT
BEGIN:VEVENT
DTSTART;TZID=America/Los_Angeles:20271104T120000
DTEND;TZID=America/Los_Angeles:20271104T130000
DTSTAMP:20260423T214740
CREATED:20250807T212639Z
LAST-MODIFIED:20260331T231434Z
UID:10403-1825329600-1825333200@cafiresafecouncil.org
SUMMARY:Northern/Central CA Regional Office Hours
DESCRIPTION:The Northern/Central California Regional Open Office Hour occurs on the first Thursday of the month\, from 12:00 to 1:00 PM. \nMicrosoft Teams meeting \nJoin: https://teams.microsoft.com/meet/22977693935752?p=rjZKbQWES9utaxoLB8 \nMeeting ID: 229 776 939 357 52 \nPasscode: 48sm7qH6
URL:https://cafiresafecouncil.org/event/northern-central-ca-regional-office-hours/2027-11-04/
CATEGORIES:CFSC Events
END:VEVENT
BEGIN:VEVENT
DTSTART;TZID=America/Los_Angeles:20271202T120000
DTEND;TZID=America/Los_Angeles:20271202T130000
DTSTAMP:20260423T214740
CREATED:20250807T212639Z
LAST-MODIFIED:20260331T231434Z
UID:10751-1827748800-1827752400@cafiresafecouncil.org
SUMMARY:Northern/Central CA Regional Office Hours
DESCRIPTION:The Northern/Central California Regional Open Office Hour occurs on the first Thursday of the month\, from 12:00 to 1:00 PM. \nMicrosoft Teams meeting \nJoin: https://teams.microsoft.com/meet/22977693935752?p=rjZKbQWES9utaxoLB8 \nMeeting ID: 229 776 939 357 52 \nPasscode: 48sm7qH6
URL:https://cafiresafecouncil.org/event/northern-central-ca-regional-office-hours/2027-12-02/
CATEGORIES:CFSC Events
END:VEVENT
BEGIN:VEVENT
DTSTART;TZID=America/Los_Angeles:20280106T120000
DTEND;TZID=America/Los_Angeles:20280106T130000
DTSTAMP:20260423T214740
CREATED:20250807T212639Z
LAST-MODIFIED:20260331T231434Z
UID:11396-1830772800-1830776400@cafiresafecouncil.org
SUMMARY:Northern/Central CA Regional Office Hours
DESCRIPTION:The Northern/Central California Regional Open Office Hour occurs on the first Thursday of the month\, from 12:00 to 1:00 PM. \nMicrosoft Teams meeting \nJoin: https://teams.microsoft.com/meet/22977693935752?p=rjZKbQWES9utaxoLB8 \nMeeting ID: 229 776 939 357 52 \nPasscode: 48sm7qH6
URL:https://cafiresafecouncil.org/event/northern-central-ca-regional-office-hours/2028-01-06/
CATEGORIES:CFSC Events
END:VEVENT
BEGIN:VEVENT
DTSTART;TZID=America/Los_Angeles:20280203T120000
DTEND;TZID=America/Los_Angeles:20280203T130000
DTSTAMP:20260423T214740
CREATED:20250807T212639Z
LAST-MODIFIED:20260331T231435Z
UID:11886-1833192000-1833195600@cafiresafecouncil.org
SUMMARY:Northern/Central CA Regional Office Hours
DESCRIPTION:The Northern/Central California Regional Open Office Hour occurs on the first Thursday of the month\, from 12:00 to 1:00 PM. \nMicrosoft Teams meeting \nJoin: https://teams.microsoft.com/meet/22977693935752?p=rjZKbQWES9utaxoLB8 \nMeeting ID: 229 776 939 357 52 \nPasscode: 48sm7qH6
URL:https://cafiresafecouncil.org/event/northern-central-ca-regional-office-hours/2028-02-03/
CATEGORIES:CFSC Events
END:VEVENT
BEGIN:VEVENT
DTSTART;TZID=America/Los_Angeles:20280302T120000
DTEND;TZID=America/Los_Angeles:20280302T130000
DTSTAMP:20260423T214740
CREATED:20250807T212639Z
LAST-MODIFIED:20260331T231435Z
UID:12249-1835611200-1835614800@cafiresafecouncil.org
SUMMARY:Northern/Central CA Regional Office Hours
DESCRIPTION:The Northern/Central California Regional Open Office Hour occurs on the first Thursday of the month\, from 12:00 to 1:00 PM. \nMicrosoft Teams meeting \nJoin: https://teams.microsoft.com/meet/22977693935752?p=rjZKbQWES9utaxoLB8 \nMeeting ID: 229 776 939 357 52 \nPasscode: 48sm7qH6
URL:https://cafiresafecouncil.org/event/northern-central-ca-regional-office-hours/2028-03-02/
CATEGORIES:CFSC Events
END:VEVENT
BEGIN:VEVENT
DTSTART;TZID=America/Los_Angeles:20280406T120000
DTEND;TZID=America/Los_Angeles:20280406T130000
DTSTAMP:20260423T214740
CREATED:20250807T212639Z
LAST-MODIFIED:20250807T212639Z
UID:12680-1838635200-1838638800@cafiresafecouncil.org
SUMMARY:Northern/Central CA Regional Office Hours
DESCRIPTION:The Northern/Central California Regional Open Office Hour occurs on the first Thursday of the month\, from 12:00 to 1:00 PM. \nMicrosoft Teams meeting \nJoin: https://teams.microsoft.com/meet/22977693935752?p=rjZKbQWES9utaxoLB8 \nMeeting ID: 229 776 939 357 52 \nPasscode: 48sm7qH6
URL:https://cafiresafecouncil.org/event/northern-central-ca-regional-office-hours/2028-04-06/
CATEGORIES:CFSC Events
END:VEVENT
END:VCALENDAR