BEGIN:VCALENDAR
VERSION:2.0
PRODID:-//California Fire Safe Council - ECPv6.15.17.1//NONSGML v1.0//EN
CALSCALE:GREGORIAN
METHOD:PUBLISH
X-WR-CALNAME:California Fire Safe Council
X-ORIGINAL-URL:https://cafiresafecouncil.org
X-WR-CALDESC:Events for California Fire Safe Council
REFRESH-INTERVAL;VALUE=DURATION:PT1H
X-Robots-Tag:noindex
X-PUBLISHED-TTL:PT1H
BEGIN:VTIMEZONE
TZID:America/Los_Angeles
BEGIN:DAYLIGHT
TZOFFSETFROM:-0800
TZOFFSETTO:-0700
TZNAME:PDT
DTSTART:20210314T100000
END:DAYLIGHT
BEGIN:STANDARD
TZOFFSETFROM:-0700
TZOFFSETTO:-0800
TZNAME:PST
DTSTART:20211107T090000
END:STANDARD
BEGIN:DAYLIGHT
TZOFFSETFROM:-0800
TZOFFSETTO:-0700
TZNAME:PDT
DTSTART:20220313T100000
END:DAYLIGHT
BEGIN:STANDARD
TZOFFSETFROM:-0700
TZOFFSETTO:-0800
TZNAME:PST
DTSTART:20221106T090000
END:STANDARD
BEGIN:DAYLIGHT
TZOFFSETFROM:-0800
TZOFFSETTO:-0700
TZNAME:PDT
DTSTART:20230312T100000
END:DAYLIGHT
BEGIN:STANDARD
TZOFFSETFROM:-0700
TZOFFSETTO:-0800
TZNAME:PST
DTSTART:20231105T090000
END:STANDARD
BEGIN:DAYLIGHT
TZOFFSETFROM:-0800
TZOFFSETTO:-0700
TZNAME:PDT
DTSTART:20240310T100000
END:DAYLIGHT
BEGIN:STANDARD
TZOFFSETFROM:-0700
TZOFFSETTO:-0800
TZNAME:PST
DTSTART:20241103T090000
END:STANDARD
BEGIN:DAYLIGHT
TZOFFSETFROM:-0800
TZOFFSETTO:-0700
TZNAME:PDT
DTSTART:20250309T100000
END:DAYLIGHT
BEGIN:STANDARD
TZOFFSETFROM:-0700
TZOFFSETTO:-0800
TZNAME:PST
DTSTART:20251102T090000
END:STANDARD
BEGIN:DAYLIGHT
TZOFFSETFROM:-0800
TZOFFSETTO:-0700
TZNAME:PDT
DTSTART:20260308T100000
END:DAYLIGHT
BEGIN:STANDARD
TZOFFSETFROM:-0700
TZOFFSETTO:-0800
TZNAME:PST
DTSTART:20261101T090000
END:STANDARD
BEGIN:DAYLIGHT
TZOFFSETFROM:-0800
TZOFFSETTO:-0700
TZNAME:PDT
DTSTART:20270314T100000
END:DAYLIGHT
BEGIN:STANDARD
TZOFFSETFROM:-0700
TZOFFSETTO:-0800
TZNAME:PST
DTSTART:20271107T090000
END:STANDARD
END:VTIMEZONE
BEGIN:VEVENT
DTSTART;VALUE=DATE:20260416
DTEND;VALUE=DATE:20260417
DTSTAMP:20260423T231734
CREATED:20221122T180023Z
LAST-MODIFIED:20221122T180023Z
UID:7893-1776297600-1776383999@cafiresafecouncil.org
SUMMARY:Los Angeles County FSC Monthly Meeting
DESCRIPTION:The Los Angeles County Fire Safe Council meets virtually on the third Thursday of each month at 7:00 PM.  \nYou can access the Zoom meeting by clicking the following link: https://us06web.zoom.us/j/87388186735  \nLearn more about MySafe:LA and the Los Angeles County Fire Safe Council here: https://www.mysafela.org/wildfire/ \n  \n 
URL:https://cafiresafecouncil.org/event/los-angeles-county-fsc-monthly-meeting/2026-04-16/
CATEGORIES:Local FSC Events
END:VEVENT
BEGIN:VEVENT
DTSTART;VALUE=DATE:20260319
DTEND;VALUE=DATE:20260320
DTSTAMP:20260423T231734
CREATED:20221122T180023Z
LAST-MODIFIED:20221122T180023Z
UID:7871-1773878400-1773964799@cafiresafecouncil.org
SUMMARY:Los Angeles County FSC Monthly Meeting
DESCRIPTION:The Los Angeles County Fire Safe Council meets virtually on the third Thursday of each month at 7:00 PM.  \nYou can access the Zoom meeting by clicking the following link: https://us06web.zoom.us/j/87388186735  \nLearn more about MySafe:LA and the Los Angeles County Fire Safe Council here: https://www.mysafela.org/wildfire/ \n  \n 
URL:https://cafiresafecouncil.org/event/los-angeles-county-fsc-monthly-meeting/2026-03-19/
CATEGORIES:Local FSC Events
END:VEVENT
BEGIN:VEVENT
DTSTART;VALUE=DATE:20260219
DTEND;VALUE=DATE:20260220
DTSTAMP:20260423T231734
CREATED:20221122T180023Z
LAST-MODIFIED:20221122T180023Z
UID:7831-1771459200-1771545599@cafiresafecouncil.org
SUMMARY:Los Angeles County FSC Monthly Meeting
DESCRIPTION:The Los Angeles County Fire Safe Council meets virtually on the third Thursday of each month at 7:00 PM.  \nYou can access the Zoom meeting by clicking the following link: https://us06web.zoom.us/j/87388186735  \nLearn more about MySafe:LA and the Los Angeles County Fire Safe Council here: https://www.mysafela.org/wildfire/ \n  \n 
URL:https://cafiresafecouncil.org/event/los-angeles-county-fsc-monthly-meeting/2026-02-19/
CATEGORIES:Local FSC Events
END:VEVENT
BEGIN:VEVENT
DTSTART;VALUE=DATE:20260115
DTEND;VALUE=DATE:20260116
DTSTAMP:20260423T231734
CREATED:20221122T180023Z
LAST-MODIFIED:20221122T180023Z
UID:7738-1768435200-1768521599@cafiresafecouncil.org
SUMMARY:Los Angeles County FSC Monthly Meeting
DESCRIPTION:The Los Angeles County Fire Safe Council meets virtually on the third Thursday of each month at 7:00 PM.  \nYou can access the Zoom meeting by clicking the following link: https://us06web.zoom.us/j/87388186735  \nLearn more about MySafe:LA and the Los Angeles County Fire Safe Council here: https://www.mysafela.org/wildfire/ \n  \n 
URL:https://cafiresafecouncil.org/event/los-angeles-county-fsc-monthly-meeting/2026-01-15/
CATEGORIES:Local FSC Events
END:VEVENT
BEGIN:VEVENT
DTSTART;VALUE=DATE:20251218
DTEND;VALUE=DATE:20251219
DTSTAMP:20260423T231734
CREATED:20221122T180023Z
LAST-MODIFIED:20221122T180023Z
UID:7705-1766016000-1766102399@cafiresafecouncil.org
SUMMARY:Los Angeles County FSC Monthly Meeting
DESCRIPTION:The Los Angeles County Fire Safe Council meets virtually on the third Thursday of each month at 7:00 PM.  \nYou can access the Zoom meeting by clicking the following link: https://us06web.zoom.us/j/87388186735  \nLearn more about MySafe:LA and the Los Angeles County Fire Safe Council here: https://www.mysafela.org/wildfire/ \n  \n 
URL:https://cafiresafecouncil.org/event/los-angeles-county-fsc-monthly-meeting/2025-12-18/
CATEGORIES:Local FSC Events
END:VEVENT
BEGIN:VEVENT
DTSTART;VALUE=DATE:20251120
DTEND;VALUE=DATE:20251121
DTSTAMP:20260423T231734
CREATED:20221122T180023Z
LAST-MODIFIED:20221122T180023Z
UID:7670-1763596800-1763683199@cafiresafecouncil.org
SUMMARY:Los Angeles County FSC Monthly Meeting
DESCRIPTION:The Los Angeles County Fire Safe Council meets virtually on the third Thursday of each month at 7:00 PM.  \nYou can access the Zoom meeting by clicking the following link: https://us06web.zoom.us/j/87388186735  \nLearn more about MySafe:LA and the Los Angeles County Fire Safe Council here: https://www.mysafela.org/wildfire/ \n  \n 
URL:https://cafiresafecouncil.org/event/los-angeles-county-fsc-monthly-meeting/2025-11-20/
CATEGORIES:Local FSC Events
END:VEVENT
BEGIN:VEVENT
DTSTART;VALUE=DATE:20251016
DTEND;VALUE=DATE:20251017
DTSTAMP:20260423T231734
CREATED:20221122T180023Z
LAST-MODIFIED:20221122T180023Z
UID:7546-1760572800-1760659199@cafiresafecouncil.org
SUMMARY:Los Angeles County FSC Monthly Meeting
DESCRIPTION:The Los Angeles County Fire Safe Council meets virtually on the third Thursday of each month at 7:00 PM.  \nYou can access the Zoom meeting by clicking the following link: https://us06web.zoom.us/j/87388186735  \nLearn more about MySafe:LA and the Los Angeles County Fire Safe Council here: https://www.mysafela.org/wildfire/ \n  \n 
URL:https://cafiresafecouncil.org/event/los-angeles-county-fsc-monthly-meeting/2025-10-16/
CATEGORIES:Local FSC Events
END:VEVENT
BEGIN:VEVENT
DTSTART;VALUE=DATE:20250918
DTEND;VALUE=DATE:20250919
DTSTAMP:20260423T231734
CREATED:20221122T180023Z
LAST-MODIFIED:20221122T180023Z
UID:7503-1758153600-1758239999@cafiresafecouncil.org
SUMMARY:Los Angeles County FSC Monthly Meeting
DESCRIPTION:The Los Angeles County Fire Safe Council meets virtually on the third Thursday of each month at 7:00 PM.  \nYou can access the Zoom meeting by clicking the following link: https://us06web.zoom.us/j/87388186735  \nLearn more about MySafe:LA and the Los Angeles County Fire Safe Council here: https://www.mysafela.org/wildfire/ \n  \n 
URL:https://cafiresafecouncil.org/event/los-angeles-county-fsc-monthly-meeting/2025-09-18/
CATEGORIES:Local FSC Events
END:VEVENT
BEGIN:VEVENT
DTSTART;VALUE=DATE:20250821
DTEND;VALUE=DATE:20250822
DTSTAMP:20260423T231734
CREATED:20221122T180023Z
LAST-MODIFIED:20221122T180023Z
UID:7197-1755734400-1755820799@cafiresafecouncil.org
SUMMARY:Los Angeles County FSC Monthly Meeting
DESCRIPTION:The Los Angeles County Fire Safe Council meets virtually on the third Thursday of each month at 7:00 PM.  \nYou can access the Zoom meeting by clicking the following link: https://us06web.zoom.us/j/87388186735  \nLearn more about MySafe:LA and the Los Angeles County Fire Safe Council here: https://www.mysafela.org/wildfire/ \n  \n 
URL:https://cafiresafecouncil.org/event/los-angeles-county-fsc-monthly-meeting/2025-08-21/
CATEGORIES:Local FSC Events
END:VEVENT
BEGIN:VEVENT
DTSTART;VALUE=DATE:20250717
DTEND;VALUE=DATE:20250718
DTSTAMP:20260423T231734
CREATED:20221122T180023Z
LAST-MODIFIED:20221122T180023Z
UID:7003-1752710400-1752796799@cafiresafecouncil.org
SUMMARY:Los Angeles County FSC Monthly Meeting
DESCRIPTION:The Los Angeles County Fire Safe Council meets virtually on the third Thursday of each month at 7:00 PM.  \nYou can access the Zoom meeting by clicking the following link: https://us06web.zoom.us/j/87388186735  \nLearn more about MySafe:LA and the Los Angeles County Fire Safe Council here: https://www.mysafela.org/wildfire/ \n  \n 
URL:https://cafiresafecouncil.org/event/los-angeles-county-fsc-monthly-meeting/2025-07-17/
CATEGORIES:Local FSC Events
END:VEVENT
BEGIN:VEVENT
DTSTART;VALUE=DATE:20250619
DTEND;VALUE=DATE:20250620
DTSTAMP:20260423T231734
CREATED:20221122T180023Z
LAST-MODIFIED:20221122T180023Z
UID:6842-1750291200-1750377599@cafiresafecouncil.org
SUMMARY:Los Angeles County FSC Monthly Meeting
DESCRIPTION:The Los Angeles County Fire Safe Council meets virtually on the third Thursday of each month at 7:00 PM.  \nYou can access the Zoom meeting by clicking the following link: https://us06web.zoom.us/j/87388186735  \nLearn more about MySafe:LA and the Los Angeles County Fire Safe Council here: https://www.mysafela.org/wildfire/ \n  \n 
URL:https://cafiresafecouncil.org/event/los-angeles-county-fsc-monthly-meeting/2025-06-19/
CATEGORIES:Local FSC Events
END:VEVENT
BEGIN:VEVENT
DTSTART;VALUE=DATE:20250515
DTEND;VALUE=DATE:20250516
DTSTAMP:20260423T231734
CREATED:20221122T180023Z
LAST-MODIFIED:20221122T180023Z
UID:6710-1747267200-1747353599@cafiresafecouncil.org
SUMMARY:Los Angeles County FSC Monthly Meeting
DESCRIPTION:The Los Angeles County Fire Safe Council meets virtually on the third Thursday of each month at 7:00 PM.  \nYou can access the Zoom meeting by clicking the following link: https://us06web.zoom.us/j/87388186735  \nLearn more about MySafe:LA and the Los Angeles County Fire Safe Council here: https://www.mysafela.org/wildfire/ \n  \n 
URL:https://cafiresafecouncil.org/event/los-angeles-county-fsc-monthly-meeting/2025-05-15/
CATEGORIES:Local FSC Events
END:VEVENT
BEGIN:VEVENT
DTSTART;VALUE=DATE:20250417
DTEND;VALUE=DATE:20250418
DTSTAMP:20260423T231734
CREATED:20221122T180023Z
LAST-MODIFIED:20221122T180023Z
UID:6605-1744848000-1744934399@cafiresafecouncil.org
SUMMARY:Los Angeles County FSC Monthly Meeting
DESCRIPTION:The Los Angeles County Fire Safe Council meets virtually on the third Thursday of each month at 7:00 PM.  \nYou can access the Zoom meeting by clicking the following link: https://us06web.zoom.us/j/87388186735  \nLearn more about MySafe:LA and the Los Angeles County Fire Safe Council here: https://www.mysafela.org/wildfire/ \n  \n 
URL:https://cafiresafecouncil.org/event/los-angeles-county-fsc-monthly-meeting/2025-04-17/
CATEGORIES:Local FSC Events
END:VEVENT
BEGIN:VEVENT
DTSTART;VALUE=DATE:20250320
DTEND;VALUE=DATE:20250321
DTSTAMP:20260423T231734
CREATED:20221122T180023Z
LAST-MODIFIED:20221122T180023Z
UID:6416-1742428800-1742515199@cafiresafecouncil.org
SUMMARY:Los Angeles County FSC Monthly Meeting
DESCRIPTION:The Los Angeles County Fire Safe Council meets virtually on the third Thursday of each month at 7:00 PM.  \nYou can access the Zoom meeting by clicking the following link: https://us06web.zoom.us/j/87388186735  \nLearn more about MySafe:LA and the Los Angeles County Fire Safe Council here: https://www.mysafela.org/wildfire/ \n  \n 
URL:https://cafiresafecouncil.org/event/los-angeles-county-fsc-monthly-meeting/2025-03-20/
CATEGORIES:Local FSC Events
END:VEVENT
BEGIN:VEVENT
DTSTART;VALUE=DATE:20250220
DTEND;VALUE=DATE:20250221
DTSTAMP:20260423T231734
CREATED:20221122T180023Z
LAST-MODIFIED:20221122T180023Z
UID:6362-1740009600-1740095999@cafiresafecouncil.org
SUMMARY:Los Angeles County FSC Monthly Meeting
DESCRIPTION:The Los Angeles County Fire Safe Council meets virtually on the third Thursday of each month at 7:00 PM.  \nYou can access the Zoom meeting by clicking the following link: https://us06web.zoom.us/j/87388186735  \nLearn more about MySafe:LA and the Los Angeles County Fire Safe Council here: https://www.mysafela.org/wildfire/ \n  \n 
URL:https://cafiresafecouncil.org/event/los-angeles-county-fsc-monthly-meeting/2025-02-20/
CATEGORIES:Local FSC Events
END:VEVENT
BEGIN:VEVENT
DTSTART;VALUE=DATE:20250116
DTEND;VALUE=DATE:20250117
DTSTAMP:20260423T231734
CREATED:20221122T180023Z
LAST-MODIFIED:20221122T180023Z
UID:6283-1736985600-1737071999@cafiresafecouncil.org
SUMMARY:Los Angeles County FSC Monthly Meeting
DESCRIPTION:The Los Angeles County Fire Safe Council meets virtually on the third Thursday of each month at 7:00 PM.  \nYou can access the Zoom meeting by clicking the following link: https://us06web.zoom.us/j/87388186735  \nLearn more about MySafe:LA and the Los Angeles County Fire Safe Council here: https://www.mysafela.org/wildfire/ \n  \n 
URL:https://cafiresafecouncil.org/event/los-angeles-county-fsc-monthly-meeting/2025-01-16/
CATEGORIES:Local FSC Events
END:VEVENT
BEGIN:VEVENT
DTSTART;VALUE=DATE:20241219
DTEND;VALUE=DATE:20241220
DTSTAMP:20260423T231734
CREATED:20221122T180023Z
LAST-MODIFIED:20221122T180023Z
UID:6229-1734566400-1734652799@cafiresafecouncil.org
SUMMARY:Los Angeles County FSC Monthly Meeting
DESCRIPTION:The Los Angeles County Fire Safe Council meets virtually on the third Thursday of each month at 7:00 PM.  \nYou can access the Zoom meeting by clicking the following link: https://us06web.zoom.us/j/87388186735  \nLearn more about MySafe:LA and the Los Angeles County Fire Safe Council here: https://www.mysafela.org/wildfire/ \n  \n 
URL:https://cafiresafecouncil.org/event/los-angeles-county-fsc-monthly-meeting/2024-12-19/
CATEGORIES:Local FSC Events
END:VEVENT
BEGIN:VEVENT
DTSTART;VALUE=DATE:20241121
DTEND;VALUE=DATE:20241122
DTSTAMP:20260423T231734
CREATED:20221122T180023Z
LAST-MODIFIED:20250530T154744Z
UID:6191-1732147200-1732233599@cafiresafecouncil.org
SUMMARY:Los Angeles County FSC Monthly Meeting
DESCRIPTION:The Los Angeles County Fire Safe Council meets virtually on the third Thursday of each month at 7:00 PM.  \nYou can access the Zoom meeting by clicking the following link: https://us06web.zoom.us/j/87388186735  \nLearn more about MySafe:LA and the Los Angeles County Fire Safe Council here: https://www.mysafela.org/wildfire/ \n  \n 
URL:https://cafiresafecouncil.org/event/los-angeles-county-fsc-monthly-meeting/2024-11-21/
CATEGORIES:Local FSC Events
END:VEVENT
BEGIN:VEVENT
DTSTART;VALUE=DATE:20241017
DTEND;VALUE=DATE:20241018
DTSTAMP:20260423T231734
CREATED:20221122T180023Z
LAST-MODIFIED:20250530T154744Z
UID:6190-1729123200-1729209599@cafiresafecouncil.org
SUMMARY:Los Angeles County FSC Monthly Meeting
DESCRIPTION:The Los Angeles County Fire Safe Council meets virtually on the third Thursday of each month at 7:00 PM.  \nYou can access the Zoom meeting by clicking the following link: https://us06web.zoom.us/j/87388186735  \nLearn more about MySafe:LA and the Los Angeles County Fire Safe Council here: https://www.mysafela.org/wildfire/ \n  \n 
URL:https://cafiresafecouncil.org/event/los-angeles-county-fsc-monthly-meeting/2024-10-17/
CATEGORIES:Local FSC Events
END:VEVENT
BEGIN:VEVENT
DTSTART;VALUE=DATE:20240919
DTEND;VALUE=DATE:20240920
DTSTAMP:20260423T231734
CREATED:20221122T180023Z
LAST-MODIFIED:20250530T154743Z
UID:6189-1726704000-1726790399@cafiresafecouncil.org
SUMMARY:Los Angeles County FSC Monthly Meeting
DESCRIPTION:The Los Angeles County Fire Safe Council meets virtually on the third Thursday of each month at 7:00 PM.  \nYou can access the Zoom meeting by clicking the following link: https://us06web.zoom.us/j/87388186735  \nLearn more about MySafe:LA and the Los Angeles County Fire Safe Council here: https://www.mysafela.org/wildfire/ \n  \n 
URL:https://cafiresafecouncil.org/event/los-angeles-county-fsc-monthly-meeting/2024-09-19/
CATEGORIES:Local FSC Events
END:VEVENT
BEGIN:VEVENT
DTSTART;VALUE=DATE:20240815
DTEND;VALUE=DATE:20240816
DTSTAMP:20260423T231734
CREATED:20221122T180023Z
LAST-MODIFIED:20250530T154743Z
UID:6188-1723680000-1723766399@cafiresafecouncil.org
SUMMARY:Los Angeles County FSC Monthly Meeting
DESCRIPTION:The Los Angeles County Fire Safe Council meets virtually on the third Thursday of each month at 7:00 PM.  \nYou can access the Zoom meeting by clicking the following link: https://us06web.zoom.us/j/87388186735  \nLearn more about MySafe:LA and the Los Angeles County Fire Safe Council here: https://www.mysafela.org/wildfire/ \n  \n 
URL:https://cafiresafecouncil.org/event/los-angeles-county-fsc-monthly-meeting/2024-08-15/
CATEGORIES:Local FSC Events
END:VEVENT
BEGIN:VEVENT
DTSTART;VALUE=DATE:20240718
DTEND;VALUE=DATE:20240719
DTSTAMP:20260423T231734
CREATED:20221122T180023Z
LAST-MODIFIED:20221122T185810Z
UID:6187-1721260800-1721347199@cafiresafecouncil.org
SUMMARY:Los Angeles County FSC Monthly Meeting
DESCRIPTION:The Los Angeles County Fire Safe Council meets virtually on the third Thursday of each month at 7:00 PM.  \nYou can access the Zoom meeting by clicking the following link: https://us06web.zoom.us/j/87388186735  \nLearn more about MySafe:LA and the Los Angeles County Fire Safe Council here: https://www.mysafela.org/wildfire/ \n  \n 
URL:https://cafiresafecouncil.org/event/los-angeles-county-fsc-monthly-meeting/2024-07-18/
CATEGORIES:Local FSC Events
END:VEVENT
BEGIN:VEVENT
DTSTART;VALUE=DATE:20240620
DTEND;VALUE=DATE:20240621
DTSTAMP:20260423T231734
CREATED:20221122T180023Z
LAST-MODIFIED:20221122T185810Z
UID:6186-1718841600-1718927999@cafiresafecouncil.org
SUMMARY:Los Angeles County FSC Monthly Meeting
DESCRIPTION:The Los Angeles County Fire Safe Council meets virtually on the third Thursday of each month at 7:00 PM.  \nYou can access the Zoom meeting by clicking the following link: https://us06web.zoom.us/j/87388186735  \nLearn more about MySafe:LA and the Los Angeles County Fire Safe Council here: https://www.mysafela.org/wildfire/ \n  \n 
URL:https://cafiresafecouncil.org/event/los-angeles-county-fsc-monthly-meeting/2024-06-20/
CATEGORIES:Local FSC Events
END:VEVENT
BEGIN:VEVENT
DTSTART;VALUE=DATE:20240516
DTEND;VALUE=DATE:20240517
DTSTAMP:20260423T231734
CREATED:20221122T180023Z
LAST-MODIFIED:20221122T185810Z
UID:6185-1715817600-1715903999@cafiresafecouncil.org
SUMMARY:Los Angeles County FSC Monthly Meeting
DESCRIPTION:The Los Angeles County Fire Safe Council meets virtually on the third Thursday of each month at 7:00 PM.  \nYou can access the Zoom meeting by clicking the following link: https://us06web.zoom.us/j/87388186735  \nLearn more about MySafe:LA and the Los Angeles County Fire Safe Council here: https://www.mysafela.org/wildfire/ \n  \n 
URL:https://cafiresafecouncil.org/event/los-angeles-county-fsc-monthly-meeting/2024-05-16/
CATEGORIES:Local FSC Events
END:VEVENT
BEGIN:VEVENT
DTSTART;VALUE=DATE:20221117
DTEND;VALUE=DATE:20221118
DTSTAMP:20260423T231734
CREATED:20221122T180023Z
LAST-MODIFIED:20221122T185800Z
UID:6168-1668643200-1668729599@cafiresafecouncil.org
SUMMARY:Los Angeles County FSC Monthly Meeting
DESCRIPTION:The Los Angeles County Fire Safe Council meets virtually on the third Thursday of each month at 7:00 PM.  \nYou can access the Zoom meeting by clicking the following link: https://us06web.zoom.us/j/87388186735  \nLearn more about MySafe:LA and the Los Angeles County Fire Safe Council here: https://www.mysafela.org/wildfire/ \n  \n 
URL:https://cafiresafecouncil.org/event/los-angeles-county-fsc-monthly-meeting/2022-11-17/
CATEGORIES:Local FSC Events
END:VEVENT
END:VCALENDAR